BEGIN:VCALENDAR
VERSION:2.0
PRODID:-//ChamberMaster//Event Calendar 2.0//EN
METHOD:PUBLISH
X-PUBLISHED-TTL:P3D
REFRESH-INTERVAL:P3D
CALSCALE:GREGORIAN
BEGIN:VEVENT
DTSTART:20180810T160000Z
DTEND:20180810T183000Z
X-MICROSOFT-CDO-ALLDAYEVENT:FALSE
SUMMARY:Innovators Luncheon - Aug. 10
DESCRIPTION:INNOVATORS LUNCHEON\n \n\nJoin us as the finalists nominated for awards in the Tech Titans Innovation categories explain how their innovation\, achievement and breakthrough technological applications are changing the landscape of North Texas.\n\n\n \n\nCORPORATE INNOVATION AWARD CATEGORY\n\n \n\nThe Tech Titans Corporate Innovation Award recognizes a company in the Metroplex with operating revenues of more than $200 million for outstanding innovation and unique accomplishments through recent or potential breakthrough technology or approach within the technology industry.\n\n\n\n2018 Finalists\n\nAT&T - FirstNet\n\nNokia\n\nFujitsu Network Communications\n\nTyler Technologies\n \n\n   \n\nEMERGING COMPANY INNOVATION AWARD CATEGORY\n\n \n\nThe Tech Titans Emerging Company Innovation Award recognizes a company in the Metroplex with operating revenue between $2 million and $200 million for outstanding innovation and unique accomplishments through recent or potential breakthrough technology or approach within the technology industry.\n \n\n\n2018 Finalists\n\nBottle Rocket\n\nPieces Technologies\n\nSevenTablets\n\n5miles LLC\n \n\nRegistration Policy:\n\nPayment is necessary at the time of reservations. Due to catering requirements we must charge for reservations not canceled three days prior to the event.  Unclaimed reservations during the event will be relinquished at noon. Walk-in customers will be seated based on space availability.
X-ALT-DESC;FMTTYPE=text/html:<p style="margin: 0pt\; font-family: Arial\; text-align: center\;"><span style="font-size:18px\;"><span style="font-family: Arial\;"><strong><font color="#323276">INNOVATORS LUNCHEON</font></strong></span></span></p>\n&nbsp\;\n\n<p style="margin: 0pt\; font-family: Arial\; text-align: center\;"><span style="font-size:14px\;"><span style="font-family: Arial\;"><span style="font-family: Arial\;"><font color="#000000">Join us as the finalists nominated for awards in the Tech Titans&nbsp\;Innovation categories explain how their innovation\, achievement and breakthrough technological applications are changing the landscape of North Texas.</font></span></span></span></p>\n<br />\n<font size="2">&nbsp\;</font>\n\n<p style="margin: 0pt\; font-family: Arial\; text-align: center\;"><span style="font-size:18px\;"><span style="font-family: Arial\;"><strong><font color="#323276">CORPORATE&nbsp\;INNOVATION AWARD CATEGORY</font></strong></span></span><br />\n&nbsp\;</p>\n\n<p style="margin: 0in 0in 0pt\; text-align: center\;"><font color="#000000"><span style="font-size:14px\;"><span style="font-family: Arial\;"><span style="font-family: Arial\; font-weight: normal\;">The </span><span style="font-family: Arial\;"><strong>Tech Titans Corporate Innovation Award</strong></span><span style="font-family: Arial\; font-weight: normal\;"> recognizes a company</span><span style="font-family: Arial\;"><strong>&nbsp\;</strong>in the Metroplex with operating revenues of more than $200 million&nbsp\;</span><span style="font-family: Arial\; font-weight: normal\;">for outstanding innovation and unique accomplishments through recent or potential breakthrough technology or approach within the technology&nbsp\;industry.</span></span></span></font></p>\n\n<p style="margin: 0pt\; font-family: Arial\; text-align: center\;"><br />\n<font color="#000000"><em><b><u>2018&nbsp\;Finalists</u><br />\nAT&amp\;T - FirstNet<br />\nNokia<br />\nFujitsu Network Communications</b></em></font></p>\n\n<p style="margin: 0pt\; font-family: Arial\; text-align: center\;"><font color="#000000"><em><b>Tyler Technologies</b></em></font></p>\n&nbsp\;\n\n<p align="center" style="MARGIN: 0pt\; FONT-FAMILY: Arial\; mso-margin-bottom-alt: auto"><span style="FONT-FAMILY: Arial\; mso-fareast-language: JA">&nbsp\;&nbsp\;<span style="FONT-FAMILY: Arial\; mso-fareast-language: JA"> </span></span></p>\n\n<p style="margin: 0pt\; font-family: Arial\; text-align: center\;"><span style="font-size:18px\;"><span style="font-family: Arial\;"><strong><font color="#323276">EMERGING COMPANY&nbsp\;INNOVATION AWARD CATEGORY</font></strong></span></span><br />\n&nbsp\;</p>\n\n<p style="margin: 0in 0in 0pt\; text-align: center\;"><font color="#000000"><span style="font-size:14px\;"><span style="font-family: Arial\;"><strong><span style="font-family: Arial\; font-weight: normal\;">The </span><span style="font-family: Arial\;">Tech Titans Emerging Company Innovation Award </span><span style="font-family: Arial\; font-weight: normal\;">recognizes a company in the Metroplex&nbsp\;</span></strong><span style="font-family: Arial\;">with operating revenue between $2 million and $200 million</span><strong><span style="font-family: Arial\;">&nbsp\;</span><span style="font-family: Arial\; font-weight: normal\;">for outstanding innovation and unique accomplishments through recent or potential breakthrough technology or approach within the technology industry.</span></strong></span></span></font></p>\n&nbsp\;\n\n<div style="text-align: center\;">\n<p style="margin: 0pt\; font-family: Arial\; text-align: center\;"><font color="#000000"><u><em><strong>2018&nbsp\;Finalists</strong></em></u><br />\n<em><strong>Bottle Rocket<br />\nPieces Technologies<br />\nSevenTablets<br />\n5miles LLC</strong></em></font></p>\n&nbsp\;\n\n<div style="line-height: 20.8px\; margin-bottom: 6pt\; text-align: left\;"><span style="color: rgb(50\, 50\, 118)\;"><span style="font-size: 11pt\;"><span style="font-family: arial\;"><span style="font-size: small\;"><span new="" style="font-family: " times=""><span style="font-size: 12pt\;"><span style="font-family: arial\;"><span style="font-size: small\;"><strong>Registration Policy:</strong></span></span></span></span></span></span></span></span></div>\n\n<div style="font-size: 9pt\; text-align: left\;"><span style="font-family: arial\;"><span style="color: rgb(0\, 0\, 0)\;"><span style="color: rgb(47\, 47\, 47)\;">Payment is necessary at the time of reservations. Due to catering requirements we must charge for reservations not canceled</span>&nbsp\;three days prior to the event.&nbsp\; Unclaimed reservations during the event will be relinquished at noon. Walk-in customers will be seated based on space availability.</span></span></div>\n</div>\n<span style="font-size:10px\;"><span style="font-family: Arial\;"> </span></span>
LOCATION:Prestonwood Country Club 15909 Preston Road Dallas\, 75248
UID:e.9090.4430
SEQUENCE:3
DTSTAMP:20260420T192603Z
URL:https://business.techtitans.org/events/details/innovators-luncheon-aug-10-4430
END:VEVENT

END:VCALENDAR
