BEGIN:VCALENDAR
VERSION:2.0
PRODID:-//ChamberMaster//Event Calendar 2.0//EN
METHOD:PUBLISH
X-PUBLISHED-TTL:P3D
REFRESH-INTERVAL:P3D
CALSCALE:GREGORIAN
BEGIN:VEVENT
DTSTART:20130926T163000Z
DTEND:20130926T180000Z
X-MICROSOFT-CDO-ALLDAYEVENT:FALSE
SUMMARY:Innovation Team - Sept. 26
DESCRIPTION:Don't miss the next MTBC Innovation Team Luncheon/Program featuring\n\n	\n\n	'Next Big Thing' speaker  Ross Teggatz\, President/Founder\, Triune Systems\n\n	Prior to founding the company\, Ross worked in a variety of senior technical and management roles at Texas Instruments (TI) and brings more than 25 years of experience in mixed-signal design and power management to the company. Over his tenure at TI\, Ross successfully started several product lines and led commercialization efforts that generated over $1 billion of sales over their product lifetimes. Ross has an MSEE degree from Southern Methodist University and an MBA from the University of Texas at Austin and holds over 40 patents with many more pending in the areas of semiconductor process\, devices\, circuits\, and systems.\n\n	Triune Systems is a semiconductor company based in Richardson that provides leading-edge products for power management\, energy harvesting and high-reliability applications. They help their partners in the consumer electronics\, solar power\, medical products\,industrial\, automotive and defense industries provide more energy efficient solutions for a secure and sustainable world.\n\n	\n\n	Update on Innovation Partners Program \n\n	\n\n	Upcoming fall TechQuest
X-ALT-DESC;FMTTYPE=text/html:<p>\n	<strong><span style="font-size: 14px">Don&#39\;t miss the next MTBC Innovation Team Luncheon/Program featuring<br />\n	<br />\n	<span style="font-size: 16px">&#39\;Next Big Thing&#39\; speaker&nbsp\; <strong>Ross Teggatz\, President/Founder\, <a href="http://www.triunesystems.com/">Triune Systems</a></strong></span></span></strong></p>\n<p>\n	<span style="font-size: 12px"><span style="font-family: arial\, helvetica\, sans-serif\; color: #000000">Prior to founding the company\, Ross worked in a variety of senior technical and management roles at Texas Instruments (TI) and brings more than 25 years of experience in mixed-signal design and power management to the company. Over his tenure at TI\, Ross successfully started several product lines and led commercialization efforts that generated over $1 billion of sales over their product lifetimes. Ross has an MSEE degree from Southern Methodist University and an MBA from the University of Texas at Austin and holds over 40 patents with many more pending in the areas of semiconductor process\, devices\, circuits\, and systems.</span></span></p>\n<p>\n	<span style="font-family: arial"><font color="#000000">T</font>riune Systems is a semiconductor company based in Richardson&nbsp\;that provides leading-edge products for power management\, energy harvesting and high-reliability applications. They help their partners in the consumer electronics\, solar power\, medical products\,industrial\, automotive and defense industries provide more energy efficient solutions for a secure and sustainable world.</span><br />\n	<br />\n	<strong><span style="font-size: 16px">Update on Innovation Partners Program&nbsp\;</span><br />\n	<br />\n	<span style="font-size: 16px">Upcoming fall TechQuest</span></strong></p>\n
LOCATION:MTBC Offices 411 Belle Grove Dr. Richardson\, TX 75080
UID:e.9090.2778
SEQUENCE:3
DTSTAMP:20260424T161853Z
URL:https://business.techtitans.org/events/details/innovation-team-sept-26-09-26-2013-2778
END:VEVENT

END:VCALENDAR
