BEGIN:VCALENDAR
VERSION:2.0
PRODID:-//ChamberMaster//Event Calendar 2.0//EN
METHOD:PUBLISH
X-PUBLISHED-TTL:P3D
REFRESH-INTERVAL:P3D
CALSCALE:GREGORIAN
BEGIN:VEVENT
DTSTART:20140925T163000Z
DTEND:20140925T180000Z
X-MICROSOFT-CDO-ALLDAYEVENT:FALSE
SUMMARY:Innovation Team - Sept. 25
DESCRIPTION:Join the Innovation Team at the new DFW Excellerator!\n\n\n\nCome and hear about the latest DFW incubator!\n\nLaunched in 2014\, the DFW Excellerator is an international business incubator and accelerator based in Richardson\, TX and San Jose\, CA for growing technology-based start-up ventures.\n\n\n\nIt offers over 8\,000 SF of co-working and office spaces for entrepreneurs\, start-ups and freelancers with additional 6\,000 SF for phase II. \n\nOur members will be part of a collaborative environment\, with access to a network of partners to accelerate their business. \n\nDFW Excellerator Focus:\n\nThe Internet of Things\, Hardware/Sensors/Software Technology\, International Business\, TMT\, Mobile\, Healthcare and Financial industry\n\n\n\nAlso a discussion on the creation of NEW MTBC SIGs and plans for 2015!  We're looking for your input and suggestions as we plan for next year.
X-ALT-DESC;FMTTYPE=text/html:<p><strong>Join the Innovation Team at the new <a href="http://dfwexcellerator.com/EN/index.aspx">DFW Excellerator!</a></strong><br />\n<br />\n<strong>Come and hear about the latest DFW incubator!</strong><br />\n<span style="font-size:14px\;">Launched in 2014\, the DFW Excellerator is an international business incubator and accelerator based in Richardson\, TX and San Jose\, CA for growing technology-based start-up ventures.<br />\n<br />\nIt offers over 8\,000 SF of co-working and office spaces for entrepreneurs\, start-ups and freelancers with additional 6\,000 SF for phase II. </span></p>\n\n<p><span style="font-size:14px\;">Our members will be part of a collaborative environment\, with access to a network of partners to accelerate their business. </span><br />\n<strong>DFW Excellerator Focus:</strong><br />\nThe Internet of Things\, Hardware/Sensors/Software Technology\, International Business\, TMT\, Mobile\, Healthcare and Financial industry<br />\n<br />\n<strong>Also a discussion on the creation of NEW MTBC SIGs and plans for 2015!</strong>&nbsp\; We&#39\;re looking for your input and suggestions as we plan for next year.</p>\n
LOCATION:1201 International Parkway\, Suite 200 Richardson\, TX 75081 MAP
UID:e.9090.3030
SEQUENCE:3
DTSTAMP:20260423T204607Z
URL:https://business.techtitans.org/events/details/innovation-team-sept-25-09-25-2014-3030
END:VEVENT

END:VCALENDAR
