BEGIN:VCALENDAR
VERSION:2.0
PRODID:-//ChamberMaster//Event Calendar 2.0//EN
METHOD:PUBLISH
X-PUBLISHED-TTL:P3D
REFRESH-INTERVAL:P3D
CALSCALE:GREGORIAN
BEGIN:VEVENT
DTSTART:20150917T163000Z
DTEND:20150917T180000Z
X-MICROSOFT-CDO-ALLDAYEVENT:FALSE
SUMMARY:Innovation Team - Sept 17
DESCRIPTION:Thursday\, September 17\n\n\n\nThe Tech Titans Innovation Team luncheon will feature 2 guest speakers discussing their innovative technologies:\n\n\n\nDavid Shaw\, Astrapi Corporation\n\nAstrapi is the leader in a revolutionary method of communication   spiral-based modulation\, a game-changing force in communications technology. Astrapi's technology will support performance advances across a wide range of radio communications.\n\n\n\nDon Allen\, Nimbix \n\nNimbix is a cloud platform for pure High Performance Computing. Their supercomputers are super smart at running applications and processing data. Perhaps more important\, Nimbix gives access to explore the full potential in your data.\n\nTarget industries include Entertainment\, Oil&Gas\, Manufacturing/Engineering\, Medical/Life Sciences\, Big Data/Analytics and Developers.
X-ALT-DESC;FMTTYPE=text/html:<p><strong>Thursday\, September 17<br />\n<br />\nThe Tech Titans Innovation Team luncheon will feature 2 guest speakers discussing their innovative technologies:<br />\n<br />\nDavid Shaw\, Astrapi Corporation</strong><br />\n<span style="font-size:11px\;"><em>Astrapi is the leader in a revolutionary method of communication &ndash\; spiral-based modulation\, a game-changing force in communications technology. Astrapi&rsquo\;s technology&nbsp\;will support performance advances across a wide range of radio communications.</em></span><br />\n<br />\n<strong>Don Allen\, Nimbix </strong><br />\n<em><span style="font-size:11px\;">Nimbix is a cloud platform for pure High Performance Computing. Their supercomputers are super smart at running applications and processing data. Perhaps more important\, Nimbix gives access to explore the full potential in your data.<br />\nTarget industries include Entertainment\, Oil&amp\;Gas\, Manufacturing/Engineering\, Medical/Life Sciences\, Big Data/Analytics and Developers.</span></em></p>\n
LOCATION:DFW Innovation Center 1201 International Parkway\, Suite 200 Richardson\, TX 75081 MAP
UID:e.9090.3150
SEQUENCE:3
DTSTAMP:20260423T044009Z
URL:https://business.techtitans.org/events/details/innovation-team-sept-17-09-17-2015-3150
END:VEVENT

END:VCALENDAR
