BEGIN:VCALENDAR
VERSION:2.0
PRODID:-//ChamberMaster//Event Calendar 2.0//EN
METHOD:PUBLISH
X-PUBLISHED-TTL:P3D
REFRESH-INTERVAL:P3D
CALSCALE:GREGORIAN
BEGIN:VEVENT
DTSTART:20151119T173000Z
DTEND:20151119T190000Z
X-MICROSOFT-CDO-ALLDAYEVENT:FALSE
SUMMARY:Innovation Team Nov. 19
DESCRIPTION:Join us for the next Innovation Team Lunch on November 19\n\n\n\nFeatured Speaker/Presentation\n\n\n\nDavid Cai\, CEO\, Voko\n\nVoko is a leading phone and communication service provider for business offices\, residential individuals and calling card customers through its elite level high quality internet networks.
X-ALT-DESC;FMTTYPE=text/html:<p><span style="font-size:14px\;"><strong>Join us for the next Innovation Team Lunch</strong> <strong>on November 19<br />\n<br />\nFeatured Speaker/Presentation<br />\n<br />\nDavid Cai\, CEO\, Voko</strong></span><br />\nVoko is a leading phone and communication service provider for business offices\, residential individuals and calling card customers through its elite level high quality internet networks.<br />\n<br />\n&nbsp\;</p>\n
LOCATION:DFW Innovation Center 1201 International Parkway\, Suite 200 Richardson\, TX 75081 MAP
UID:e.9090.3158
SEQUENCE:3
DTSTAMP:20260423T001418Z
URL:https://business.techtitans.org/events/details/innovation-team-nov-19-11-19-2015-3158
END:VEVENT

END:VCALENDAR
