BEGIN:VCALENDAR
VERSION:2.0
PRODID:-//ChamberMaster//Event Calendar 2.0//EN
METHOD:PUBLISH
X-PUBLISHED-TTL:P3D
REFRESH-INTERVAL:P3D
CALSCALE:GREGORIAN
BEGIN:VEVENT
DTSTART:20170216T173000Z
DTEND:20170216T190000Z
X-MICROSOFT-CDO-ALLDAYEVENT:FALSE
SUMMARY:Innovation team\, Feb. 16
DESCRIPTION:Tech Titans Innovation Team Meeting\n\n\n\n\n\nWe will discuss plans for 2017 events including our second "Reverse Pitch" and a "Venture Forum" and seek volunteers to help organize\, promote and sponsor these two events. We will also have a guest speaker in our continuing "Next Big Thing" speaker series. Presenter to be announced soon.
X-ALT-DESC;FMTTYPE=text/html:<strong>Tech Titans Innovation Team Meeting</strong><br />\n<br />\n<br />\nWe will discuss plans for 2017 events including our second &ldquo\;Reverse Pitch&rdquo\; and a &ldquo\;Venture Forum&rdquo\; and seek volunteers to help organize\, promote and&nbsp\;sponsor these two events. We will also have a guest speaker in our continuing &ldquo\;Next Big Thing&rdquo\; speaker series. Presenter to be announced soon.<br />\n&nbsp\;
LOCATION:DFW Innovation Center 1201 International Parkway\, Suite 200 Richardson\, TX 75081 MAP
UID:e.9090.3311
SEQUENCE:3
DTSTAMP:20260421T235706Z
URL:https://business.techtitans.org/events/details/innovation-team-feb-16-3311
END:VEVENT

END:VCALENDAR
