BEGIN:VCALENDAR
VERSION:2.0
PRODID:-//ChamberMaster//Event Calendar 2.0//EN
METHOD:PUBLISH
X-PUBLISHED-TTL:P3D
REFRESH-INTERVAL:P3D
CALSCALE:GREGORIAN
BEGIN:VEVENT
DTSTART:20150319T163000Z
DTEND:20150319T180000Z
X-MICROSOFT-CDO-ALLDAYEVENT:FALSE
SUMMARY:Innovation Team - 2015 March
DESCRIPTION:Interested in Innovation in the DFW area?\n\nJoin us for the monthly luncheon meeting of the MTBC Innovation Team\n\nTopics:\n\nBusiness Validation portal\n\nInnovation Partners\n\nStatus of Design/Mfg Forum\n\nOpen topic discussion\n\n\n\n\n\nAbout the MTBC Innovation Team: \n\nThe MTBC Innovation Team works to improve and encourage high-tech entrepreneurship\, innovation and commercialization within DFW.  The Team holds monthly meetings to discuss the latest high-tech industry topics\, and develops programs to match technology needs of major local companies with solutions by small tech companies\, university researcher and tech entrepreneurs.
X-ALT-DESC;FMTTYPE=text/html:<div style="color: gray\;"><strong><span style="font-size:14px\;"><span style="color:#000000\;">Interested in Innovation in the DFW area?</span></span></strong></div>\n\n<div style="color: gray\;"><span style="color:#000000\;">Join us for the monthly luncheon meeting of the MTBC Innovation Team</span><br />\n<span style="color:#000000\;"><strong>Topics:</strong></span></div>\n\n<div style="color: gray\;">Business Validation portal<br />\nInnovation Partners<br />\nStatus of Design/Mfg Forum</div>\n\n<div style="color: gray\;">Open topic discussion<br />\n<br />\n<br />\n<strong><span style="color:#000000\;">About the MTBC Innovation Team: </span></strong></div>\n\n<div style="color: gray\;"><span style="color:#000000\;">The MTBC Innovation Team works to improve and encourage high-tech entrepreneurship\, innovation and commercialization within DFW.&nbsp\; The Team holds monthly meetings to discuss the latest high-tech industry topics\, and develops programs to match technology needs of major local companies with solutions by small tech companies\, university researcher and tech entrepreneurs.</span></div>\n
LOCATION:Host: DFW Technovation Center 1201 International Parkway\, Suite 200 Richardson\, TX 75081 MAP Directions: Exit from US 75/Central Expressway to eastbound Arapaho Road Go east on Arapaho to International Parkway (if you come to Plano Road\, you missed it!) Turn north on International Parkway to 1201\, building will be on your left - Suite 200.
UID:e.9090.3101
SEQUENCE:3
DTSTAMP:20260423T112623Z
URL:https://business.techtitans.org/events/details/innovation-team-2015-march-03-19-2015-3101
END:VEVENT

END:VCALENDAR
