BEGIN:VCALENDAR
VERSION:2.0
PRODID:-//ChamberMaster//Event Calendar 2.0//EN
METHOD:PUBLISH
X-PUBLISHED-TTL:P3D
REFRESH-INTERVAL:P3D
CALSCALE:GREGORIAN
BEGIN:VEVENT
DTSTART:20150219T173000Z
DTEND:20150219T190000Z
X-MICROSOFT-CDO-ALLDAYEVENT:FALSE
SUMMARY:Innovation Team - 2015 Feb
DESCRIPTION:Interested in Innovation???\n\nJoin us for the launch of the 2015 MTBC Innovation Team!\n\n\n\nThe first monthly luncheon meeting of the year will be held on February 19 at the MTBC offices.\n\nActivities and volunteer opportunities for 2015 will be discussed by the Innovation Team Tri-chairs:\n\n    Paul Nichols\, CEO\, Cirasys\n\n    Greg Needel\, SMU Innovation Gymnasium\n\n    Doug Reeder\, Dell Services\n\n\n\nJOIN US!
X-ALT-DESC;FMTTYPE=text/html:<p><span style="font-size:16px\;"><strong>Interested in Innovation???</strong></span><br />\nJoin us for the launch of the 2015 MTBC Innovation Team!<br />\n<br />\nThe first monthly luncheon meeting of the year will be held on February 19 at the MTBC offices.</p>\n\n<p>Activities and volunteer opportunities for 2015 will be discussed by the Innovation Team Tri-chairs:<br />\n&nbsp\;&nbsp\;&nbsp\;&nbsp\;Paul Nichols\, CEO\, Cirasys<br />\n&nbsp\;&nbsp\;&nbsp\;&nbsp\;Greg Needel\, SMU Innovation Gymnasium<br />\n&nbsp\;&nbsp\;&nbsp\;&nbsp\;Doug Reeder\, Dell Service<strong>s<br />\n<br />\nJOIN US!</strong></p>\n
LOCATION:MTBC office - Board Room 411 Belle Grove Dr. Richardson\, TX 75080 MAP
UID:e.9090.3080
SEQUENCE:3
DTSTAMP:20260423T125924Z
URL:https://business.techtitans.org/events/details/innovation-team-2015-feb-02-19-2015-3080
END:VEVENT

END:VCALENDAR
