BEGIN:VCALENDAR
VERSION:2.0
PRODID:-//ChamberMaster//Event Calendar 2.0//EN
METHOD:PUBLISH
X-PUBLISHED-TTL:P3D
REFRESH-INTERVAL:P3D
CALSCALE:GREGORIAN
BEGIN:VEVENT
DTSTART:20150430T163000Z
DTEND:20150430T180000Z
X-MICROSOFT-CDO-ALLDAYEVENT:FALSE
SUMMARY:Health Technology Forum - April 30
DESCRIPTION:The Metroplex Technology Business Council is launching an exciting new special interest forum focused on Health Technology. The forum will bring the medical and technology communities together to discuss the utilization of advanced technologies for human health including drugs\, biotechnology\, medical device technology\, big data and software. \n\n\n\n\n\nA light lunch will be served. Please register so we know how much food to order.\n\n\n\nParking passes will be sent to those who have registered.
X-ALT-DESC;FMTTYPE=text/html:The Metroplex Technology Business Council is launching an exciting new special interest forum focused on Health Technology. The forum will bring the medical and technology communities together to discuss the utilization of advanced technologies for human health including drugs\, biotechnology\, medical device technology\, big data and software.&nbsp\;<br />\n<br />\n<br />\nA light lunch will be served. Please register so we know how much food to order.<br />\n<br />\n<strong>Parking passes will be sent to those who have registered.</strong>
LOCATION:Synergy Park North (SPN) building 3000 Waterview Parkway Richardson\, TX 75080
UID:e.9090.3117
SEQUENCE:3
DTSTAMP:20260423T095755Z
URL:https://business.techtitans.org/events/details/health-technology-forum-april-30-04-30-2015-3117
END:VEVENT

END:VCALENDAR
