BEGIN:VCALENDAR
VERSION:2.0
PRODID:-//ChamberMaster//Event Calendar 2.0//EN
METHOD:PUBLISH
X-PUBLISHED-TTL:P3D
REFRESH-INTERVAL:P3D
CALSCALE:GREGORIAN
BEGIN:VEVENT
DTSTART:20160509T150000Z
DTEND:20160509T230000Z
X-MICROSOFT-CDO-ALLDAYEVENT:FALSE
SUMMARY:Golf Tournament - May 9
DESCRIPTION:Registration deadline is May 5th at 5 pm!\n\n\n\nThe Tech Titans Golf Tournament attracts business executives from technology companies across the Dallas Fort Worth Metroplex. The tournament will be a four-person scramble with a 12:30 shotgun start. A brief awards reception and light dinner will follow play.\n\n\n\nCorporate sponsorship in a variety of price ranges provides companies with the ideal opportunity to reach potential customers and promote their business during this enjoyable day on the golf course. Click here to view the sponsorships that are available. \n\n \n\nContact Danielle Billelo at 972-792-2869 or Danielle@techtitans.org for more information on sponsorships or to sign up a team or player.
X-ALT-DESC;FMTTYPE=text/html:<span style="font-family: arial"><span style="font-size: 10pt"><span style="color:#FF0000\;"><span style="font-size:16px\;"><strong>Registration deadline is May 5th at 5 pm!</strong></span></span><br />\n<br />\nThe Tech Titans&nbsp\;Golf Tournament attracts business executives from technology companies across the Dallas Fort Worth Metroplex. The tournament will be a four-person scramble with a 12:30</span></span><span style="font-family: arial"><span style="font-size: 10pt">&nbsp\;shotgun start. A brief awards reception and light dinner will follow play.<br />\n<br />\nCorporate sponsorship in a variety of price ranges provides companies with the ideal opportunity to reach potential customers and promote their business during this enjoyable day on the golf course. <a href="http://96bda424cfcc34d9dd1a-0a7f10f87519dba22d2dbc6233a731e5.r41.cf2.rackcdn.com/metroplex/documents/Tech_Titans_Golf_Sponsor_Pricing.pdf">Click here</a>&nbsp\;to view the sponsorships that are available.&nbsp\;</span></span><br />\n&nbsp\;<br />\n<span style="font-family: arial"><span style="font-size: 10pt">Contact Danielle Billelo at </span></span><span style="font-family: arial"><span style="font-size: 10pt">972-792-2869</span></span><span style="font-family: arial"><span style="font-size: 10pt"> or Danielle@techtitans.org for more information on sponsorships or to sign up a team or player. </span></span>
LOCATION:The Creek Club House at Prestonwood Country Club 15909 Preston Road Dallas\, TX 75248
UID:e.9090.3171
SEQUENCE:3
DTSTAMP:20260422T140340Z
URL:https://business.techtitans.org/events/details/golf-tournament-may-9-05-09-2016-3171
END:VEVENT

END:VCALENDAR
