BEGIN:VCALENDAR
VERSION:2.0
PRODID:-//ChamberMaster//Event Calendar 2.0//EN
METHOD:PUBLISH
X-PUBLISHED-TTL:P3D
REFRESH-INTERVAL:P3D
CALSCALE:GREGORIAN
BEGIN:VEVENT
DTSTART:20170522T160000Z
DTEND:20170522T230000Z
X-MICROSOFT-CDO-ALLDAYEVENT:FALSE
SUMMARY:Golf Tournament -2017
DESCRIPTION:The Tech Titans Golf Tournament attracts business executives from technology companies across the Dallas Fort Worth Metroplex. The tournament will be a four-person scramble with a 12:30 shotgun start. A brief awards reception and light dinner will follow play.\n\n\n\nCorporate sponsorship in a variety of price ranges provides companies with the ideal opportunity to reach potential customers and promote their business during this enjoyable day on the golf course. Click here to view the sponsorships that are available. \n\n \n\nContact Andrea Young at 972-792-2869 or andrea@techtitans.org for more information on sponsorships or to sign up a team or player.
X-ALT-DESC;FMTTYPE=text/html:<br />\n<br />\n<span style="font-family: arial"><span style="font-size: 10pt">The Tech Titans&nbsp\;Golf Tournament attracts business executives from technology companies across the Dallas Fort Worth Metroplex. The tournament will be a four-person scramble with a 12:30</span></span><span style="font-family: arial"><span style="font-size: 10pt">&nbsp\;shotgun start. A brief awards reception and light dinner will follow play.<br />\n<br />\nCorporate sponsorship in a variety of price ranges provides companies with the ideal opportunity to reach potential customers and promote their business during this enjoyable day on the golf course. <a href="https://chambermaster.blob.core.windows.net/userfiles/UserFiles/chambers/9090/File/NEWTechTitansGolfSponsorInfo_2017.pdf" target="_blank">Click here</a>&nbsp\;to view the sponsorships that are available.&nbsp\;</span></span><br />\n&nbsp\;<br />\n<span style="font-family: arial"><span style="font-size: 10pt">Contact Andrea Young at </span></span><span style="font-family: arial"><span style="font-size: 10pt">972-792-2869</span></span><span style="font-family: arial"><span style="font-size: 10pt">&nbsp\;or andrea@techtitans.org for more information on sponsorships or to sign up a team or player. </span></span>
LOCATION:Firewheel Golf Park- Bridges Course 1535 E. Brand Rd. Garland\, 75044
UID:e.9090.3309
SEQUENCE:3
DTSTAMP:20260421T195732Z
URL:https://business.techtitans.org/events/details/golf-tournament-2017-3309
END:VEVENT

END:VCALENDAR
