BEGIN:VCALENDAR
VERSION:2.0
PRODID:-//ChamberMaster//Event Calendar 2.0//EN
METHOD:PUBLISH
X-PUBLISHED-TTL:P3D
REFRESH-INTERVAL:P3D
CALSCALE:GREGORIAN
BEGIN:VEVENT
DTSTART:20170402T223000Z
DTEND:20170405T170000Z
X-MICROSOFT-CDO-ALLDAYEVENT:FALSE
SUMMARY:Federal Policy Conference & Tour in Washington DC - Apr. 2-5
DESCRIPTION:Join us for our first annual Federal Policy Conference & Tour! On Sunday night\, Congressman Pete Sessions will welcome attendees with a private tour of the Capitol led by him. Deletes will spend the rest of the trip speaking to legislators\, attending briefings on important policies and movements in the legislature\, and enjoy activities around Washington\, D.C. Don't miss this exciting opportunity to advocate for your company and the North Texas tech industry!\n\n\n\nEach registration includes:\n\n	Dinner at Tortilla Coast on Sunday \n	Reception and dinner at Capitol Hill Club on Monday\n	Dinner at Old Ebbitt Grill on Tuesday\n	All DC activity-related transportation (airport transfers not included)\n	All briefings at US House\, US Senate and US Chamber\n	Meetings with elected officials\n	Newseum tour and lunch on Wednesday\n\nSponsorship opportunities: \n\n\n	Title Sponsor - $2\,500. Title sponsors will receive recognition on our website\, event emails and other media\; acknowledgement at delegation events and functions\; introduction of guest speakers at dinners\; and 2 registrations. Only 1 sponsorship available. Update: This sponsorship is no longer available.\n	Reception Sponsor (2 available) $1\,250. Reception sponsors will receive recognition on our website\, event emails and other media\; acknowledgement at delegation events and functions\; and 1 registration. Only 2 sponsorships available.\n	Local DC Transportation Sponsor (2 available) $1\,250. Transportation sponsor will receive recognition on our website\, event emails and other media\; acknowledgement at delegation events and on bus and 1 registration. Only 1 available.\n	Dinner Sponsorships (3 available) $500. - Recognition on website and any event emails\, acknowledgement at one of the dinners.
X-ALT-DESC;FMTTYPE=text/html:Join us for our first annual Federal Policy Conference &amp\; Tour! On Sunday night\, Congressman Pete Sessions will welcome attendees with a private tour of the Capitol led by him. Deletes will spend the rest of the trip speaking to legislators\, attending briefings on important policies and movements in the legislature\, and enjoy activities around Washington\, D.C. Don&#39\;t miss this exciting opportunity to advocate for your company and the North Texas tech industry!<br />\n<br />\nEach registration includes:\n<ul>\n	<li>Dinner at Tortilla Coast on Sunday&nbsp\;</li>\n	<li>Reception and dinner at Capitol Hill Club on Monday</li>\n	<li>Dinner at Old Ebbitt Grill on Tuesday</li>\n	<li>All DC activity-related transportation (airport transfers not included)</li>\n	<li>All briefings at US House\, US Senate and US Chamber</li>\n	<li>Meetings with elected officials</li>\n	<li>Newseum tour and lunch on Wednesday</li>\n</ul>\nSponsorship opportunities:&nbsp\;\n\n<ul>\n	<li><strong>Title Sponsor - $2\,500</strong>. Title sponsors will receive recognition on our website\, event emails and other media\; acknowledgement at delegation events and functions\; introduction of guest speakers at dinners\; and 2 registrations. Only 1 sponsorship available. <em><strong>Update: This sponsorship is no longer available.</strong></em></li>\n	<li><strong>Reception Sponsor (2 available) $1\,250</strong>. Reception sponsors will receive recognition on our website\, event emails and other media\; acknowledgement at delegation events and functions\; and 1 registration. Only 2 sponsorships available.</li>\n	<li><strong>Local DC Transportation Sponsor (2 available) $1\,250</strong>. Transportation sponsor will receive recognition on our website\, event emails and other media\; acknowledgement at delegation events and on bus and 1 registration. Only 1 available.</li>\n	<li><strong>Dinner Sponsorships (3 available) $500</strong>. - Recognition on website and any event emails\, acknowledgement at one of the dinners.</li>\n</ul>\n
LOCATION:Host Hotel: The University Club 1135 16th St NW Washington\, D.C. 20036 For group rate code\, contact The University Club and tell them you are part of the Richardson Chamber group www.universityclubdc.com or call 202-862-8800.
UID:e.9090.3307
SEQUENCE:3
DTSTAMP:20260421T203601Z
URL:https://business.techtitans.org/events/details/federal-policy-conference-tour-in-washington-dc-apr-2-5-3307
END:VEVENT

END:VCALENDAR
