BEGIN:VCALENDAR
VERSION:2.0
PRODID:-//ChamberMaster//Event Calendar 2.0//EN
METHOD:PUBLISH
X-PUBLISHED-TTL:P3D
REFRESH-INTERVAL:P3D
CALSCALE:GREGORIAN
BEGIN:VEVENT
DTSTART:20260421T210000Z
DTEND:20260421T230000Z
X-MICROSOFT-CDO-ALLDAYEVENT:FALSE
SUMMARY:EVENT CANCELED: Quantum Technology Forum: Q-Day Is Coming
DESCRIPTION:A Governance Playbook for CISOs and Boards\n\n\n\nWhen quantum breaks encryption\, who's liable and who's accountable?\n\n\n\nWhen quantum computing breaks today's encryption\, the impact won't be technical   it will be financial\, operational\, and legal. Sensitive data is already being harvested with the expectation it can be decrypted later\, creating compounding exposure and raising questions about liability and oversight.\n\n\n\nThis session moves past theory to execution: how to build a defensible crypto inventory\, identify data with long-term risk\, and begin adopting crypto-agile approaches aligned to emerging standards like NIST PQC. This is not a tool decision. It requires a multi-year enterprise shift in how cryptography is managed\, governed\, and reported. Organizations that act now reduce exposure. Those that don't will eventually have to explain why.\n\n\n\nThis panel presentation includes:\n\n	E.G. Nadhan - Board Chair\, The HDF Group\, Former IBM Quantum Senior Ambassador and Red Hat Chief Architect \n	Robert Taylor JD - Artificial Intelligence\, Technology & Intellectual Property | AI Triage Center | General Counsel Carstens\, Allen & Gourley\, LLP \n	Mike Thompson - Managing Partner QuantaCyber\, Quantum Resilient Security Tri-Chair Tech Titans Quantum Forum\, Board Member\n\nIn related news ... see Google's March 2026 announcement that it is setting a 2029 timeline to secure the quantum era with post-quantum cryptography (PQC) migration: https://blog.google/innovation-and-ai/technology/safety-security/cryptography-migration-timeline/\n\n\n\nThank you to QuantaCyber for sponsoring this program!
X-ALT-DESC;FMTTYPE=text/html:<span style="font-size:20px\;"><em><strong>A Governance Playbook for CISOs and Boards</strong></em></span><br />\n<br />\n<span style="font-size:18px\;"><em>When quantum breaks encryption\, who&#39\;s liable and who&rsquo\;s accountable?</em></span><br />\n<br />\nWhen quantum computing breaks today&rsquo\;s encryption\, the impact won&rsquo\;t be technical &mdash\; it will be financial\, operational\, and legal. Sensitive data is already being harvested with the expectation it can be decrypted later\, creating compounding exposure and raising questions about liability and oversight.<br />\n<br />\nThis session moves past theory to execution: how to build a defensible crypto inventory\, identify data with long-term risk\, and begin adopting crypto-agile approaches aligned to emerging standards like NIST PQC. This is not a tool decision. It requires a multi-year enterprise shift in how cryptography is managed\, governed\, and reported. Organizations that act now reduce exposure. Those that don&rsquo\;t will eventually have to explain why.<br />\n<br />\nThis panel presentation includes:\n<ul>\n	<li><a href="https://www.linkedin.com/in/egnadhan/">E.G. Nadhan</a> - Board Chair\, The HDF Group\, Former IBM Quantum Senior Ambassador and Red Hat Chief Architect&nbsp\;</li>\n	<li><a href="https://www.linkedin.com/in/rwtaylor/">Robert Taylor JD</a> - Artificial Intelligence\, Technology &amp\; Intellectual Property | AI Triage Center | General Counsel Carstens\, Allen &amp\; Gourley\, LLP&nbsp\;</li>\n	<li><a href="https://www.linkedin.com/in/mike-thompson-701129/">Mike Thompson</a> - Managing Partner QuantaCyber\, Quantum Resilient Security Tri-Chair Tech Titans Quantum Forum\, Board Member</li>\n</ul>\nIn related news ... see Google&#39\;s March 2026 announcement that it is&nbsp\;setting a 2029 timeline to secure the quantum era with post-quantum cryptography (PQC) migration:&nbsp\;<a href="https://blog.google/innovation-and-ai/technology/safety-security/cryptography-migration-timeline/">https://blog.google/innovation-and-ai/technology/safety-security/cryptography-migration-timeline/</a><br />\n<br />\n<span style="font-size:18px\;"><strong>Thank you to <a href="https://www.quantacyber.ai">QuantaCyber</a> for sponsoring this program!</strong></span>
LOCATION:Center for American and International Law 5201 Democracy Drive Plano\, TX 75024
UID:e.9090.4920
SEQUENCE:3
DTSTAMP:20260421T141247Z
URL:https://business.techtitans.org/events/details/event-canceled-quantum-technology-forum-q-day-is-coming-4920
END:VEVENT

END:VCALENDAR
