BEGIN:VCALENDAR
VERSION:2.0
PRODID:-//ChamberMaster//Event Calendar 2.0//EN
METHOD:PUBLISH
X-PUBLISHED-TTL:P3D
REFRESH-INTERVAL:P3D
CALSCALE:GREGORIAN
BEGIN:VEVENT
DTSTART:20160610T130000Z
DTEND:20160610T143000Z
X-MICROSOFT-CDO-ALLDAYEVENT:FALSE
SUMMARY:Drone Technology Forum- June 10
DESCRIPTION:Calling all STEM educators and teachers!\n\n\n\n"Incorporating Drone Technology - Quadcopters - in the classroom for STEM Education Safely and Successfully"\n\n\n\nSee a variety of aerial robots and sensors\, find out the protocols for safe use and how effective and fun quadcopters can be for engaging students in STEM.\n\n\n\nThese educators can tell you what and how to successfully introduce drone technology into the classroom\, summer camp\, Boy Scouts\, Girl Scouts or customize for a robotics\, technology\, engineering\, aviation\, or 3D printing class focus.\n\n \n\n\n	Deborah Kilgore\, Robotics Instructor\n	Stan Feighny\, Engineering / Robotics Teacher\, Lewisville Career Center East\, LISD\n	Ron Poynter\, OnPoynt Education\, Quadcopter Build & Fly Educator Training
X-ALT-DESC;FMTTYPE=text/html:<div _mce_style="font-size: 10pt\;" style="color: rgb(0\, 0\, 0)\; font-family: Arial\; line-height: normal\; font-size: 10pt\;"><strong>Calling all STEM educators and teachers!<br />\n<br />\n&quot\;Incorporating&nbsp\;Drone Technology - Quadcopters - in the classroom for STEM Education Safely and Successfully&quot\;</strong></div>\n\n<div _mce_style="font-size: 10pt\;" style="color: rgb(0\, 0\, 0)\; font-family: Arial\; line-height: normal\; font-size: 10pt\;"><br />\nSee a variety of aerial robots and sensors\, find out the protocols for safe use and how effective and fun quadcopters can be for engaging students in STEM.</div>\n\n<div _mce_style="font-size: 10pt\;" style="color: rgb(0\, 0\, 0)\; font-family: Arial\; line-height: normal\; font-size: 10pt\;"><br />\nThese educators can tell you what and how to successfully introduce drone technology into the classroom\, summer camp\, Boy Scouts\, Girl Scouts or customize for a robotics\, technology\, engineering\, aviation\, or 3D printing class focus.<br />\n&nbsp\;</div>\n\n<ul>\n	<li _mce_style="font-size: 10pt\;" style="color: rgb(0\, 0\, 0)\; font-family: Arial\; line-height: normal\; font-size: 10pt\;">Deborah Kilgore\, Robotics Instructor</li>\n	<li _mce_style="font-size: 10pt\;" style="color: rgb(0\, 0\, 0)\; font-family: Arial\; line-height: normal\; font-size: 10pt\;">Stan Feighny\,&nbsp\;Engineering&nbsp\;/ Robotics Teacher\, Lewisville Career Center East\, LISD</li>\n	<li _mce_style="font-size: 10pt\;" style="color: rgb(0\, 0\, 0)\; font-family: Arial\; line-height: normal\; font-size: 10pt\;">Ron Poynter\, OnPoynt Education\, Quadcopter Build &amp\; Fly Educator Training</li>\n</ul>\n
LOCATION:Tech Titans board room 411 Belle Grove Dr. Richardson 75080
UID:e.9090.3212
SEQUENCE:3
DTSTAMP:20260422T123222Z
URL:https://business.techtitans.org/events/details/drone-technology-forum-june-10-06-10-2016-3212
END:VEVENT

END:VCALENDAR
