BEGIN:VCALENDAR
VERSION:2.0
PRODID:-//ChamberMaster//Event Calendar 2.0//EN
METHOD:PUBLISH
X-PUBLISHED-TTL:P3D
REFRESH-INTERVAL:P3D
CALSCALE:GREGORIAN
BEGIN:VEVENT
DTSTART:20170222T133000Z
DTEND:20170222T153000Z
X-MICROSOFT-CDO-ALLDAYEVENT:FALSE
SUMMARY:Drone Technology Event- Feb. 22
DESCRIPTION:"Drone Technology Special Demonstration: Breakthrough Perimeter Security Solution"\n\n \n\n\n\n\n\n\n\n\n\nDRONES .They seem to be everywhere!  From Super Bowl halftime shows\, aerial surveillance or national security\, the use of UAS's\, or Drones are common place today.  With the proliferation of Drones use\, it is becoming more challenging to secure airspaces from unauthorized Drone intrusion.  Join us to see the latest Drone Detection and Denial technology in action.  Presentation from OnPoynt Aerial Solutions\, Hitachi Consulting and Tentwo Technology. \n\n \n\n\n	Tom Moore\, Hitachi Consulting \n	Keri Garcia\, Tentwo Technology
X-ALT-DESC;FMTTYPE=text/html:<div _mce_style="font-size: 10pt\;" style="color: rgb(0\, 0\, 0)\; font-family: Arial\; line-height: normal\; font-size: 10pt\;">\n<div _mce_style="text-align: left\;" align="left" style="text-align: left\;">\n<div _mce_style="text-align: left\;" align="left">\n<div _mce_style="text-align: left\;" align="left" style="text-align: left\;">\n<div _mce_style="text-align: center\; margin-left: 30px\;" align="center" style="text-align: center\; margin-left: 30px\;">\n<div align="left" style="text-align: left\;">\n<div align="left">\n<div align="left">\n<div align="center" style="text-align: center\; margin-left: 30px\;"><strong style="color: rgb(162\, 0\, 0)\; text-align: center\; background-color: rgb(255\, 255\, 255)\;"><span style="color: rgb(9\, 163\, 186)\; font-size: 16pt\;"><b><b>&quot\;Drone Technology Special Demonstration: Breakthrough Perimeter Security Solution&quot\;</b></b></span></strong><br />\n&nbsp\;</div>\n</div>\n</div>\n</div>\n</div>\n</div>\n</div>\n</div>\n</div>\n\n<div _mce_style="font-size: 10pt\;" style="color: rgb(0\, 0\, 0)\; font-family: Arial\; line-height: normal\; font-size: 10pt\;"><span style="font-size:14px\;">DRONES&hellip\;.They seem to be everywhere!&nbsp\; From Super Bowl halftime shows\, aerial surveillance or national security\, the use of UAS&rsquo\;s\, or Drones are common place today.&nbsp\; With the proliferation of Drones use\, it is becoming more challenging to secure airspaces from unauthorized Drone intrusion.&nbsp\; Join us to see the latest Drone Detection and Denial technology in action.&nbsp\; Presentation from OnPoynt Aerial Solutions\, Hitachi Consulting and Tentwo Technology.&nbsp\;</span><br />\n&nbsp\;</div>\n\n<ul>\n	<li _mce_style="font-size: 10pt\;" style="color: rgb(0\, 0\, 0)\; font-family: Arial\; line-height: normal\; font-size: 10pt\;"><span style="font-size:14px\;">Tom Moore\, Hitachi Consulting&nbsp\;</span></li>\n	<li _mce_style="font-size: 10pt\;" style="color: rgb(0\, 0\, 0)\; font-family: Arial\; line-height: normal\; font-size: 10pt\;"><span style="font-size:14px\;">Keri Garcia\, Tentwo Technology</span></li>\n</ul>\n\n<div style="color: rgb(0\, 0\, 0)\; font-family: Arial\; line-height: normal\; font-size: 10pt\;">&nbsp\;</div>\n
LOCATION:The University of Texas at Dallas 3000 Waterview Parkway Richardson 75080
UID:e.9090.3312
SEQUENCE:3
DTSTAMP:20260421T235556Z
URL:https://business.techtitans.org/events/details/drone-technology-event-feb-22-3312
END:VEVENT

END:VCALENDAR
