BEGIN:VCALENDAR
VERSION:2.0
PRODID:-//ChamberMaster//Event Calendar 2.0//EN
METHOD:PUBLISH
X-PUBLISHED-TTL:P3D
REFRESH-INTERVAL:P3D
CALSCALE:GREGORIAN
BEGIN:VEVENT
DTSTART:20160513T190000Z
DTEND:20160513T214500Z
X-MICROSOFT-CDO-ALLDAYEVENT:FALSE
SUMMARY:Design & Mfg Forum - TI RFAB -May13
DESCRIPTION:"Semiconductor Manufacturing - Clean and Green"\n\nPlan your RFAB visit for 1 hour. This time will include a 15-20 minute TI Overview presentation and video followed by a 30-40 minute window tour. The time may vary depending on the number of questions\, number of people taking the tour and how quickly the folks move through the Innovation Center. \nWhat to expect on the tour:\n\n\n	History of RFAB and examples of products they build\n	Architectural elements of the LEED certified buildings\n	Overview of the semiconductor process\n	Structural makeup of a wafer fab cleanroom  \n	Window tour of the 220\,000-square-foot ISO Class 5 turbulent clean room\n	Tour of the central utility plant that supports RFAB and administration buildings\n\n\nPlease indicate your status as a US citizen or permanent resident in the comments field during registration.
X-ALT-DESC;FMTTYPE=text/html:<span style="font-size: 14px\;"><span style="line-height: 25.5px\; font-family: &quot\;Fakt Soft&quot\;\, &quot\;Helvetica Neue&quot\;\, helvetica\, &quot\;Apple Color Emoji&quot\;\, arial\, sans-serif\; background-color: rgb(255\, 255\, 255)\;"><span style="font-size:16px\;"><strong>&quot\;Semiconductor Manufacturing - Clean and Green&quot\;</strong></span><br />\nPlan your RFAB visit for 1 hour. This time will include a 15-20 minute TI Overview presentation and video followed by a 30-40 minute window tour. The time may vary depending on the number of questions\, number of people taking the tour and how quickly the folks move through the Innovation Center.&nbsp\;</span></span>\n<div style="margin: 0px\; line-height: 25.5px\; font-family: &quot\;Fakt Soft&quot\;\, &quot\;Helvetica Neue&quot\;\, helvetica\, &quot\;Apple Color Emoji&quot\;\, arial\, sans-serif\; font-size: 17px\; box-sizing: border-box\; background-color: rgb(255\, 255\, 255)\;"><span style="font-size: 14px\;">What to expect on the tour:</span></div>\n\n<ul style="margin: 0px\; line-height: 25.5px\; padding-left: 1.3em\; font-family: &quot\;Fakt Soft&quot\;\, &quot\;Helvetica Neue&quot\;\, helvetica\, &quot\;Apple Color Emoji&quot\;\, arial\, sans-serif\; font-size: 17px\; box-sizing: border-box\; background-color: rgb(255\, 255\, 255)\;">\n	<li style="box-sizing: border-box\;"><span style="font-size: 14px\;">History of RFAB and examples of products they build</span></li>\n	<li style="box-sizing: border-box\;"><span style="font-size: 14px\;">Architectural elements of the LEED certified buildings</span></li>\n	<li style="box-sizing: border-box\;"><span style="font-size: 14px\;">Overview of the semiconductor process</span></li>\n	<li style="box-sizing: border-box\;"><span style="font-size: 14px\;">Structural makeup of a wafer fab cleanroom &nbsp\;</span></li>\n	<li style="box-sizing: border-box\;"><span style="font-size: 14px\;">Window tour of the 220\,000-square-foot ISO Class 5 turbulent clean room</span></li>\n	<li style="box-sizing: border-box\;"><span style="font-size: 14px\;">Tour of the central utility plant that supports RFAB and administration buildings</span></li>\n</ul>\n\n<div style="margin: 0px\; line-height: 25.5px\; font-family: &quot\;Fakt Soft&quot\;\, &quot\;Helvetica Neue&quot\;\, helvetica\, &quot\;Apple Color Emoji&quot\;\, arial\, sans-serif\; font-size: 17px\; box-sizing: border-box\; background-color: rgb(255\, 255\, 255)\;"><span style="font-size:18px\;"><em>Please indicate&nbsp\;your status&nbsp\;as a US citizen or permanent resident in the comments field during registration.</em></span></div>\n
LOCATION:Texas Instruments: Richardson Fab 300 W Renner Rd Richardson Tx\, 75080
UID:e.9090.3190
SEQUENCE:3
DTSTAMP:20260422T141142Z
URL:https://business.techtitans.org/events/details/design-mfg-forum-ti-rfab-may13-05-13-2016-3190
END:VEVENT

END:VCALENDAR
