BEGIN:VCALENDAR
VERSION:2.0
PRODID:-//ChamberMaster//Event Calendar 2.0//EN
METHOD:PUBLISH
X-PUBLISHED-TTL:P3D
REFRESH-INTERVAL:P3D
CALSCALE:GREGORIAN
BEGIN:VEVENT
DTSTART:20170419T190000Z
DTEND:20170419T214500Z
X-MICROSOFT-CDO-ALLDAYEVENT:FALSE
SUMMARY:Design & Mfg Forum - Paragon Innovations - Apr 19 - CANCELLED
DESCRIPTION:This event has been cancelled\n\n\n\nSo you want to make a product? There are pills for that!\n\n\n\nCome share in an afternoon of discussion with Paragon Innovations where we will discuss the trials\, tribulations\, blood\, sweat\, and tears required to turn a concept into a reality.\n\n\n\nMike Wilkinson\, CEO\n\nMike Willey CTO\n\nAllan Rich\, Project Manager\n\nPaulina Mosley\, Brian Eaton\, Alan Hasty\, Senior Engineers\n\n\n\n\n\nAbout the Company:  Paragon Innovations has spent 26 years helping customers bring products to market.  We have designed hundreds of products and it is likely that you've encountered one or more of them in your life.  Whether that is through a blood pressure monitor that you or a loved one may have used in a hospital\, a diagnostics tool to help determine the status of your car or many other devices in the market today\; Paragon has probably touched your life somehow already.
X-ALT-DESC;FMTTYPE=text/html:<p><strong><span style="color:#FF0000\;">This event has been cancelled</span><br />\n<br />\nSo you want to make a product?&hellip\;There are pills for that!</strong><br />\n<br />\nCome share in an afternoon of discussion with Paragon Innovations where we will discuss the trials\, tribulations\, blood\, sweat\, and tears required to turn a concept into a reality.<br />\n<br />\nMike Wilkinson\, CEO</p>\n\n<p>Mike Willey CTO</p>\n\n<p>Allan Rich\, Project Manager</p>\n\n<p>Paulina&nbsp\;Mosley\, Brian Eaton\, Alan Hasty\, Senior Engineers<br />\n<br />\n<br />\nAbout the Company:&nbsp\; Paragon Innovations has spent 26 years helping customers bring products to market.&nbsp\; We have designed hundreds of products and it is likely that you&rsquo\;ve encountered one or more of them in your life.&nbsp\; Whether that is through a blood pressure monitor that you or a loved one may have used in a hospital\, a diagnostics tool to help determine the status of your car or many other devices in the market today\; Paragon has probably touched your life somehow already.<br />\n&nbsp\;</p>\n
LOCATION:Pargon Innovations 3305 Matrix Dr. Richardson\, TX 75082 | map
UID:e.9090.3323
SEQUENCE:3
DTSTAMP:20260421T212458Z
URL:https://business.techtitans.org/events/details/design-mfg-forum-paragon-innovations-apr-19-cancelled-3323
END:VEVENT

END:VCALENDAR
