BEGIN:VCALENDAR
VERSION:2.0
PRODID:-//ChamberMaster//Event Calendar 2.0//EN
METHOD:PUBLISH
X-PUBLISHED-TTL:P3D
REFRESH-INTERVAL:P3D
CALSCALE:GREGORIAN
BEGIN:VEVENT
DTSTART:20170714T193000Z
DTEND:20170714T213000Z
X-MICROSOFT-CDO-ALLDAYEVENT:FALSE
SUMMARY:Design & Mfg Forum - July14
DESCRIPTION:How to realize your product from concept to manufacturing\n\n\n\nCome share in an afternoon of discussion with Paragon Innovations where we will discuss the trials\, tribulations\, blood\, sweat\, and tears required to turn a concept into a reality.\n\n\n\nMike Wilkinson\, CEO\n\nMike Willey CTO\n\nAllan Rich\, Project Manager\n\nPaulina Mosley\, Brian Eaton\, Alan Hasty\, Senior Engineers\n\n\n\nPresentations and discussion on:\n\nProduct Development (Conceptualization\, refinement & evolution)\n\nDesign Process (DTC\, DFM\, DFR\, Trade-offs)\n\nPrototyping (Cycles\, Goals\, Results)\n\nManufacturing/Porduction (this is where you can make your money)\n\nAbout the Company:  Paragon Innovations has spent 26 years helping customers bring products to market.  We have designed hundreds of products and it is likely that you've encountered one or more of them in your life.  Whether that is through a blood pressure monitor that you or a loved one may have used in a hospital\, a diagnostics tool to help determine the status of your car or many other devices in the market today\; Paragon has probably touched your life somehow already.
X-ALT-DESC;FMTTYPE=text/html:<p><strong><span style="color:#1F497D\;"><span style="font-family:calibri\,sans-serif\;"><span style="font-size:11.0pt\;">How to realize your product from concept to manufacturing</span></span></span></strong><br />\n<br />\nCome share in an afternoon of discussion with Paragon Innovations where we will discuss the trials\, tribulations\, blood\, sweat\, and tears required to turn a concept into a reality.<br />\n<br />\nMike Wilkinson\, CEO</p>\n\n<p>Mike Willey CTO</p>\n\n<p>Allan Rich\, Project Manager</p>\n\n<p>Paulina&nbsp\;Mosley\, Brian Eaton\, Alan Hasty\, Senior Engineers<br />\n<br />\n<span style="box-sizing: border-box\; font-family: Calibri\, Candara\, Segoe\, &quot\;Segoe UI&quot\;\, Optima\, Arial\, sans-serif\; font-size: 14px\; color: rgb(50\, 50\, 118)\;"><strong style="box-sizing: border-box\;"><span style="box-sizing: border-box\;">Presentations and discussion on:</span></strong></span><br style="box-sizing: border-box\; color: rgb(133\, 138\, 157)\; font-family: Calibri\, Candara\, Segoe\, &quot\;Segoe UI&quot\;\, Optima\, Arial\, sans-serif\; font-size: 14px\;" />\n<span style="box-sizing: border-box\; font-family: Calibri\, Candara\, Segoe\, &quot\;Segoe UI&quot\;\, Optima\, Arial\, sans-serif\; font-size: 14px\; color: rgb(0\, 0\, 0)\;">Product Development (Conceptualization\, refinement &amp\; evolution)</span><br style="box-sizing: border-box\; color: rgb(133\, 138\, 157)\; font-family: Calibri\, Candara\, Segoe\, &quot\;Segoe UI&quot\;\, Optima\, Arial\, sans-serif\; font-size: 14px\;" />\n<span style="box-sizing: border-box\; font-family: Calibri\, Candara\, Segoe\, &quot\;Segoe UI&quot\;\, Optima\, Arial\, sans-serif\; font-size: 14px\; color: rgb(0\, 0\, 0)\;">Design Process (DTC\, DFM\, DFR\, Trade-offs)</span><br style="box-sizing: border-box\; color: rgb(133\, 138\, 157)\; font-family: Calibri\, Candara\, Segoe\, &quot\;Segoe UI&quot\;\, Optima\, Arial\, sans-serif\; font-size: 14px\;" />\n<span style="box-sizing: border-box\; font-family: Calibri\, Candara\, Segoe\, &quot\;Segoe UI&quot\;\, Optima\, Arial\, sans-serif\; font-size: 14px\; color: rgb(0\, 0\, 0)\;">Prototyping (Cycles\, Goals\, Results)</span><br style="box-sizing: border-box\; color: rgb(133\, 138\, 157)\; font-family: Calibri\, Candara\, Segoe\, &quot\;Segoe UI&quot\;\, Optima\, Arial\, sans-serif\; font-size: 14px\;" />\n<span style="box-sizing: border-box\; font-family: Calibri\, Candara\, Segoe\, &quot\;Segoe UI&quot\;\, Optima\, Arial\, sans-serif\; font-size: 14px\; color: rgb(0\, 0\, 0)\;">Manufacturing/Porduction (this is where you can make your money)</span><br />\nAbout the Company:&nbsp\; Paragon Innovations has spent 26 years helping customers bring products to market.&nbsp\; We have designed hundreds of products and it is likely that you&rsquo\;ve encountered one or more of them in your life.&nbsp\; Whether that is through a blood pressure monitor that you or a loved one may have used in a hospital\, a diagnostics tool to help determine the status of your car or many other devices in the market today\; Paragon has probably touched your life somehow already.</p>\n
LOCATION:Pargon Innovations 3305 Matrix Dr. Richardson\, TX 75082 | map
UID:e.9090.3330
SEQUENCE:3
DTSTAMP:20260421T171644Z
URL:https://business.techtitans.org/events/details/design-mfg-forum-july14-3330
END:VEVENT

END:VCALENDAR
