BEGIN:VCALENDAR
VERSION:2.0
PRODID:-//ChamberMaster//Event Calendar 2.0//EN
METHOD:PUBLISH
X-PUBLISHED-TTL:P3D
REFRESH-INTERVAL:P3D
CALSCALE:GREGORIAN
BEGIN:VEVENT
DTSTART:20150910T210000Z
DTEND:20150910T221500Z
X-MICROSOFT-CDO-ALLDAYEVENT:FALSE
SUMMARY:Design & Manufacturing Forum Sept 10
DESCRIPTION:Join us for the Design & Manufacturing Forum Sept. 10 featuring:\n\n    Dr. Mark Spong\n\n      Dean\, Erik Jonsson School of Engineering & Computer Science\n\n      University of Texas at Dallas\n\n    Greg Burnham\n\n        STEM oriented HS Engineering and Robotics instructor\n\n        Allen High School\, Allen ISD\n\n    Allen HS Robotics Team\n\n\n\nTopic:  "Robotics Competition in Schools"\n\nSpeakers will be followed by a Robotics demonstration by the Allen High School Robotics Team\n\nDr. Mark Spong\n\nIn addition to serving as Dean of the Erik Jonsson School of Engineering and Computer Science since 2008\, Dr. Spong is the recipient of the 2011 Pioneer Award\, IEEE Robotics and Automation Society\, the 2007 IROS Fumio Harashima Award for Innovative Technologies\, the Senior Scientist Research Award from the Alexander von Humboldt Foundation and is a Fellow of the IEEE. Prior to his arrival at UT Dallas\, he was the Donald Biggar Willett Professor of Engineering at the University of Illinois\, Urbana-Champaign from 1984 to 2008.  He is a graduate of New Mexico State University (MS in Mathematics) and received his Ph.D. in systems science and mathematics from Washington University in St. Louis.\n\nAllen High School Robotics\n\nGreg Burnham is the engineering and robotics teacher at Allen High School\, specializing in BEST and FIRST robotics\, Project and Problem based learning and the physics of high power rocketry. Since 1998\, he has also been a professional instructor\, counselor and supervisor of engineering and science camps throughout Texas. Some camps are taught in combination with training teachers how to teach project based engineering and science for the Texas Tech University T-STEM Center.  Science camp instruction: Engineering\, wind energy science and engineering\, rocketry\, robotics and CSI Investigations for Texas Tech University IDEAL Institute. Greg has taught at two Exxon Mobile Bernard Harris Summer Science Camps for Texas Tech University. \n\nAllen Independent School District and Allen High School has hosted competitive robotics teams since 1994. A-Team Robotics started as an after school club. The project-based problem solving nature of competitive robotics has given rise to Texas Education Agency created robotics standards that Allen High School has adopted. Allen High School competes in both Collin County Boosting Engineering Science and Technology (CoCO BEST) Robotics and FIRST Robotics Competition. Both competitions provides students with a challenge\, mentoring and hands on experience exploring engineering\, programming and applications of math and science.\n\n************************************************************************************\n\nMTBC Design & Manufacturing Forum Tri-Chairs:\n\nGary Tanel\, QCG  - lead tri-chair\n\nPaul Peck\, End of Restrictions/MTBC Board of Directors\n\nAdam Ley\, ASSET InterTech\n\n\n\nQuestions??  Contact Sue Walker\, MTBC STAFF liaison for Design & Mfg Forum  972.792.2856  sue@metroplextbc.org
X-ALT-DESC;FMTTYPE=text/html:<p>Join us for the <strong>Design &amp\; Manufacturing Forum Sept. 10 </strong>featuring:</p>\n\n<p><strong>&nbsp\;&nbsp\;&nbsp\;&nbsp\;Dr. Mark Spong</strong><br />\n&nbsp\;&nbsp\;&nbsp\;&nbsp\;&nbsp\; Dean\, Erik Jonsson School of Engineering &amp\; Computer Science<br />\n&nbsp\;&nbsp\;&nbsp\;&nbsp\;&nbsp\; University of Texas at Dallas<br />\n&nbsp\;&nbsp\;&nbsp\; <strong>Greg Burnham<br />\n&nbsp\;&nbsp\;&nbsp\;&nbsp\;&nbsp\;&nbsp\;&nbsp\; </strong>STEM oriented HS Engineering and Robotics instructor<br />\n&nbsp\;&nbsp\;&nbsp\;&nbsp\;&nbsp\;&nbsp\;&nbsp\; Allen High School\, Allen ISD<br />\n<strong>&nbsp\;&nbsp\;&nbsp\; Allen HS Robotics Team</strong><br />\n<br />\n<strong>Topic:&nbsp\; &quot\;Robotics Competition in Schools&quot\;</strong><br />\nSpeakers will be followed by a Robotics demonstration by the Allen High School Robotics Team</p>\n\n<p><strong>Dr. Mark Spong</strong><br />\nIn addition to serving as Dean of the Erik Jonsson School of Engineering and Computer Science since 2008\, Dr. Spong is the recipient of the 2011 Pioneer Award\, IEEE Robotics and Automation Society\, the 2007 IROS Fumio Harashima Award for Innovative Technologies\, the Senior Scientist Research Award from the Alexander von Humboldt Foundation and is a Fellow of the IEEE. Prior to his arrival at UT Dallas\, he was the Donald Biggar Willett Professor of Engineering at the University of Illinois\, Urbana-Champaign from 1984 to 2008.&nbsp\; He is a graduate of New Mexico State University (MS in Mathematics) and received his Ph.D. in systems science and mathematics from Washington University in St. Louis.</p>\n\n<p><strong>Allen High School Robotics</strong><br />\nGreg Burnham is the engineering and robotics teacher at Allen High School\, specializing in BEST and FIRST robotics\, Project and Problem based learning and the physics of high power rocketry. Since 1998\, he has also been a professional instructor\, counselor and supervisor of engineering and science camps throughout Texas. Some camps are taught in combination with training teachers how to teach project based engineering and science for the Texas Tech University T-STEM Center.&nbsp\; Science camp instruction: Engineering\, wind energy science and engineering\, rocketry\, robotics and CSI Investigations for Texas Tech University IDEAL Institute. Greg has taught at two Exxon Mobile Bernard Harris Summer Science Camps for Texas Tech University.&nbsp\;</p>\n\n<p>Allen Independent School District and Allen High School has hosted competitive robotics teams since 1994. A-Team Robotics started as an after school club. The project-based problem solving nature of competitive robotics has given rise to Texas Education Agency created robotics standards that Allen High School has adopted. Allen High School competes in both Collin County Boosting Engineering Science and Technology (CoCO BEST) Robotics and FIRST Robotics Competition. Both competitions provides students with a challenge\, mentoring and hands on experience exploring engineering\, programming and applications of math and science.<br />\n************************************************************************************<br />\n<strong>MTBC Design &amp\; Manufacturing Forum Tri-Chairs:</strong><br />\nGary Tanel\, QCG&nbsp\; - lead tri-chair<br />\nPaul Peck\, End of Restrictions/MTBC Board of Directors<br />\nAdam Ley\, ASSET InterTech<br />\n<br />\nQuestions??&nbsp\; Contact Sue Walker\, MTBC STAFF liaison for Design &amp\; Mfg Forum&nbsp\; 972.792.2856&nbsp\; sue@metroplextbc.org<br />\n&nbsp\;</p>\n
LOCATION:Performing Arts Center Entrance Allen ISD Performing Arts Center 300 Rivercrest Blvd. Allen\, TX 75002 MAP
UID:e.9090.3149
SEQUENCE:3
DTSTAMP:20260423T031331Z
URL:https://business.techtitans.org/events/details/design-manufacturing-forum-sept-10-09-10-2015-3149
END:VEVENT

END:VCALENDAR
