BEGIN:VCALENDAR
VERSION:2.0
PRODID:-//ChamberMaster//Event Calendar 2.0//EN
METHOD:PUBLISH
X-PUBLISHED-TTL:P3D
REFRESH-INTERVAL:P3D
CALSCALE:GREGORIAN
BEGIN:VEVENT
DTSTART:20150710T160000Z
DTEND:20150710T180000Z
X-MICROSOFT-CDO-ALLDAYEVENT:FALSE
SUMMARY:Design & Manufacturing Forum - July 10
DESCRIPTION:Join us for the next Design & Manufacturing Forum\n\nTopic: Adding IoT capabilities to your product\, how hard can it be..?\n\nSpeaker: Jim Kokal\, President/CEO\, Wavetrix\n\n\n\nAdding Internet of Things capabilities to your product involves a multitude of technologies and decisions.  Navigating through this process requires effort and a good game plan.  In this session\, we will focus on the remote device and what is required to add IoT capability to it.  We will discuss how the device fits within an IoT system\, the options and their tradeoffs for connecting to the Internet\, the implications to the existing product (and processor)\, and the implications of being an IoT device ? most notably the impact on installation\, configuration\, security and maintenance.  By working through these issues systemically you can add IoT capabilities to your product quickly and begin realizing its benefits.\n\n\n\nSpeaker Bio:\n\nJim has years of experience developing\, marketing\, and selling communication systems. Prior to founding Wavetrix\, he was the Director of Marketing at Broadband Gateways where he focused on positioning the company?s products and developing strategic partnerships. Previously\, he created the Softband  software radio product line for Blue Wave Systems (acquired by Motorola). His experience extends across a broad range of communication systems from cellular networks to free-space optical systems.\n\nCombining his industry experience with an MBA from the University of California at Los Angeles\, and an MSEE/BSEE from the University of Illinois\, Jim has the vision and background to direct the process of creating and marketing new products for Wavetrix?s customers.\n\nAbout Wavetrix \n\nWavetrix is an electronic product design firm founded in 2001 and headquartered in Richardson's Telecom Corridor. They offer a wide array of electronic product development and manufacturing services that are customized for each clients' specific needs. Their technical staff includes experts in software\, RF/Wireless\, Integration & Test\, hardware design\, mechanical design\, system engineering\, project management and manufacturing support.\n\n***************************************************************************************************************\n\nMTBC's new Design and Manufacturing Forum targets multiple industry sectors including military\, medical\, industrial and telecom and will focus programs on design\, manufacturing\, emerging technologies\, electronics\, plastics and metal fabrication.  Attendees include engineers and engineering managers\, researchers and supply chain managers. \n\nMission:\n\nTo provide MTBC Members & prospective members with hardware design & manufacturing information and a local network of technology professionals that will help improve their products.\n\nMTBC Design & Mfg Forum Tri-Chairs: Gary Tanel\, QCG\; Paul Peck\, NWave\; Adam Ley\, ASSET InterTech
X-ALT-DESC;FMTTYPE=text/html:<p><span style="font-family:verdana\;"><span style="font-size: 16px\;">Join us for the next <strong>Design &amp\; Manufacturing Forum</strong></span></span></p>\n\n<p><span style="font-family:verdana\;"><span style="font-size: 16px\;"><strong>Topic:</strong> <strong><em>Adding IoT capabilities to your product\, how hard can it be..?</em></strong></span></span></p>\n\n<p><span style="font-family:verdana\;">Speaker: <strong>Jim Kokal\, President/CEO\, Wavetrix</strong><br />\n<br />\n<span style="font-size: 12px\;"><span style="color: rgb(105\, 105\, 105)\;">Adding <u>Internet of Things</u> capabilities to your product involves a multitude of technologies and decisions.&nbsp\; Navigating through this process requires effort and a good game plan. &nbsp\;In this session\, we will focus on the remote device and what is required to add IoT capability to it.&nbsp\; We will discuss how the device fits within an IoT system\, the options and their tradeoffs for connecting to the Internet\, the implications to the existing product (and processor)\, and the implications of being an IoT device ? most notably the impact on installation\, configurati<a name="_GoBack"></a>on\, security and maintenance.&nbsp\; By working through these issues systemically you can add IoT capabilities to your product quickly and begin realizing its benefits.</span></span></span><br />\n<br />\n<strong>Speaker Bio:</strong></p>\n\n<p><span style="color:#696969\;"><span style="font-size: 12px\;"><span style="font-family: verdana\;">Jim has years of experience developing\, marketing\, and selling communication systems. Prior to founding Wavetrix\, he was the Director of Marketing at Broadband Gateways where he focused on positioning the company?s products and developing strategic partnerships. Previously\, he created the Softband&reg\; software radio product line for Blue Wave Systems (acquired by Motorola). His experience extends across a broad range of communication systems from cellular networks to free-space optical systems.</span></span></span></p>\n\n<p><span style="color:#696969\;"><span style="font-size: 12px\;"><span style="font-family: verdana\;">Combining his industry experience with an MBA from the University of California at Los Angeles\, and an MSEE/BSEE from the University of Illinois\, Jim has the vision and background to direct the process of creating and marketing new products for Wavetrix?s customers.</span></span></span></p>\n\n<p><span style="font-size:12px\;"><span style="font-family: verdana\;"><strong>About <a href="http://www.wavetrix.com/">Wavetrix</a></strong><a href="http://www.wavetrix.com/"> </a><br />\nWavetrix is an electronic product design firm founded in 2001 and headquartered in Richardson&#39\;s Telecom Corridor. They offer a wide array of electronic product development and manufacturing services that are customized for each clients&#39\; specific needs. Their technical staff includes experts in software\, RF/Wireless\, Integration &amp\; Test\, hardware design\, mechanical design\, system engineering\, project management and manufacturing support.</span></span></p>\n\n<p>***************************************************************************************************************</p>\n\n<p><span style="color:#000000\;"><span style="font-size: 12px\;"><span style="font-family: verdana\;"><strong>MTBC&#39\;s new Design and Manufacturing Forum</strong> targets multiple industry sectors including military\, medical\, industrial and telecom and will focus programs on design\, manufacturing\, emerging technologies\, electronics\, plastics and metal fabrication.&nbsp\; Attendees include engineers and engineering managers\, researchers and supply chain managers. </span></span></span></p>\n\n<p><span style="color:#000000\;"><span style="font-size: 12px\;"><span style="font-family: verdana\;"><strong>Mission:</strong><br />\nTo provide MTBC Members &amp\; prospective members with hardware design &amp\; manufacturing information and a local network of technology professionals that will help improve their products.</span></span></span></p>\n\n<p><span style="color:#000000\;"><span style="font-size: 12px\;"><span style="font-family: verdana\;"><strong>MTBC Design &amp\; Mfg Forum Tri-Chairs:</strong> Gary Tanel\, QCG\; Paul Peck\, NWave\; Adam Ley\, ASSET InterTech</span></span></span></p>\n
LOCATION:QCG\, Inc. 1501 N. Plano Road\, Suite 300 Richardson\, TX 75081 MAP
UID:e.9090.3133
SEQUENCE:3
DTSTAMP:20260423T071406Z
URL:https://business.techtitans.org/events/details/design-manufacturing-forum-july-10-07-10-2015-3133
END:VEVENT

END:VCALENDAR
