BEGIN:VCALENDAR
VERSION:2.0
PRODID:-//ChamberMaster//Event Calendar 2.0//EN
METHOD:PUBLISH
X-PUBLISHED-TTL:P3D
REFRESH-INTERVAL:P3D
CALSCALE:GREGORIAN
BEGIN:VEVENT
DTSTART:20151204T220000Z
DTEND:20151204T230000Z
X-MICROSOFT-CDO-ALLDAYEVENT:FALSE
SUMMARY:Design & Manufacturing Forum - Dec. 4
DESCRIPTION:Topic:  "Product Data Manager"\n\nwith special guest speaker\n\nPaul Peck\, COO/CFO\, NWave Technologies and Tri-Chair\, Tech Titans Design & Mfg. Forum\n\n\n\nThe roles of Design and Manufacturing are not unlike the roles of the Chef and the Cook.  It's important to differentiate between producing the Designs (Recipes) and producing the Product (Meals).  A clearly defined "recipe" developed in a collaborative environment with strict documentation requirements and rigorous release control processes is the best way to improve consistency and thus quality\, lower the product cost and support scalability.  In his use of the chef and cook analogy\, Paul Peck will illustrate how Product Data Management and Product Lifecycle Management are used to clearly define the separation of duties between Design and Manufacturing\, while keeping everyone on the same page.\n\n\n\nPaul Peck is a hands-on and versatile tech exec leader experienced at helping companies (from start-up to Fortune 500) manage growth\, achieve profitability goals and meet strategic objectives\, including the management of M&A transactions\, from both sides.  He has extensive M&A experience including target identification\, due diligence and acquisition integration\, having worked for 8 early stage companies that were all acquired by larger companies\, and having transitioned to executive roles with the new company every time.\n\n\n\nHe has held executive positions with several US corporations and with 4 foreign-owned publicly-traded multi-nationals: British\, Canadian\, French\, & German.  He has managed "off-shore"  manufacturing and service operations in Brazil\, Britain\, China\, Germany\, Holland\, India\, Norway\, Mexico\, Romania\, Sweden\, Taiwan\, & Vietnam.\n\n\n\nHis civic engagement includes serving as vice chair & treasurer of Tech Titans (formerly the MTBC)\, as a current member of the Richardson Mayor's International Economic Development Board and a member of Richardson's Tax Increment Financing Board.\n\n\n\nHis academic engagement includes being on 3 boards at UT-Dallas: Center for Intelligent Supply Networks\, Center for Info Tech Management\, & Institute for Innovation and Entrepreneurship. Also a frequent guest lecturer at UT-Dallas's School of Management\n\n\n\nPaul has a Bachelors and a MBA from Texas Tech University\, and a CPA license from the State of Texas\, with most accounting coursework done at UT-Dallas.
X-ALT-DESC;FMTTYPE=text/html:<p><span style="font-size:16px\;"><strong>Topic:&nbsp\; &quot\;Product Data Manager&quot\;<br />\nwith special guest speaker<br />\nPaul Peck\, COO/CFO\, NWave Technologies and Tri-Chair\, Tech Titans Design &amp\; Mfg. Forum</strong></span><br />\n<br />\nThe roles of Design and Manufacturing are not unlike the roles of the Chef and the Cook. &nbsp\;It&rsquo\;s important to differentiate between producing the Designs (Recipes) and producing the Product (Meals). &nbsp\;A clearly defined &ldquo\;recipe&rdquo\; developed in a collaborative environment with strict documentation requirements and rigorous release control processes is the best way to improve consistency and thus quality\, lower the product cost and support scalability. &nbsp\;In his use of the chef and cook analogy\, Paul Peck will illustrate how Product Data Management and Product Lifecycle Management are used to clearly define the separation of duties between Design and Manufacturing\, while keeping everyone on the same page.<br />\n<br />\nPaul Peck is a hands-on and versatile tech exec leader experienced at helping companies (from start-up to Fortune 500) manage growth\, achieve profitability goals and meet strategic objectives\, including the management of M&amp\;A transactions\, from both sides. &nbsp\;He has extensive M&amp\;A experience including target identification\, due diligence and acquisition integration\, having worked for 8 early stage companies that were all acquired by larger companies\, and having transitioned to executive roles with the new company every time.<br />\n<br />\nHe has held executive positions with several US corporations and with 4 foreign-owned publicly-traded multi-nationals: British\, Canadian\, French\, &amp\; German.&nbsp\; He has managed &quot\;off-shore&quot\;&#8203\; manufacturing and service operations in Brazil\, Britain\, China\, Germany\, Holland\, India\, Norway\, Mexico\, Romania\, Sweden\, Taiwan\, &amp\; Vietnam.<br />\n<br />\nHis civic engagement includes serving as vice chair &amp\; treasurer of Tech Titans (formerly the MTBC)\, as a current member of the Richardson Mayor&rsquo\;s International Economic Development Board and a member of Richardson&#39\;s Tax Increment Financing Board.<br />\n<br />\nHis academic engagement includes being on 3 boards at UT-Dallas: Center for Intelligent Supply Networks\, Center for Info Tech Management\, &amp\; Institute for Innovation and Entrepreneurship. Also a frequent guest lecturer at UT-Dallas&#39\;s School of Management<br />\n<br />\nPaul has a Bachelors and a MBA from Texas Tech University\, and a CPA license from the State of Texas\, with most accounting coursework done at UT-Dallas.</p>\n
LOCATION:QCG\, Inc. 1501 N. Plano Road Suite 300 Richardson\, TX 75081 MAP
UID:e.9090.3164
SEQUENCE:3
DTSTAMP:20260422T223222Z
URL:https://business.techtitans.org/events/details/design-manufacturing-forum-dec-4-12-04-2015-3164
END:VEVENT

END:VCALENDAR
