BEGIN:VCALENDAR
VERSION:2.0
PRODID:-//ChamberMaster//Event Calendar 2.0//EN
METHOD:PUBLISH
X-PUBLISHED-TTL:P3D
REFRESH-INTERVAL:P3D
CALSCALE:GREGORIAN
BEGIN:VEVENT
DTSTART:20150819T180000Z
DTEND:20150819T184500Z
X-MICROSOFT-CDO-ALLDAYEVENT:FALSE
SUMMARY:*Delivering the Brand through PLM - Prolim - Aug. 19
DESCRIPTION:In today's marketplace\, brands must deal with market saturation\, and shrinking footprints. Smarter decisions\, better consumer packaged goods through high definition PLM. Are you being outpaced by your competitors in this age of digitalization?  You should register for the PROLIM live webinar on August 19th 2015 on 1 PM Eastern "Delivering the Brand through PLM".\n\nIn this 45 minute webinar\, we will cover:\n\n   How to build the right product for your customer\n\n   Deliver it faster and design it better\n\n   The complexity of growing a profitable brand\n\n   How to deliver more luxurious\, yet more affordable brand\n\n \n\nRegister Now
X-ALT-DESC;FMTTYPE=text/html:<p>In today&rsquo\;s marketplace\, brands must deal with market saturation\, and shrinking footprints. Smarter decisions\, better consumer packaged goods through high definition PLM. Are you being outpaced by your competitors in this age of digitalization?&nbsp\; You should register for the PROLIM live webinar on <strong>August 19<sup>th</sup> 2015 on 1 PM Eastern</strong> &ldquo\;Delivering the Brand through PLM&rdquo\;.</p>\n\n<p>In this 45 minute webinar\, we will cover:</p>\n\n<p style="margin-left:.5in"><!--[if !supportLists]--><span style="font-family:wingdings">&Oslash\;<span style="font-family:times new roman\; font-size:7pt">&nbsp\; </span></span><!--[endif]-->How to build the right product for your customer</p>\n\n<p style="margin-left:.5in"><!--[if !supportLists]--><span style="font-family:wingdings">&Oslash\;<span style="font-family:times new roman\; font-size:7pt">&nbsp\; </span></span><!--[endif]-->Deliver it faster and design it better</p>\n\n<p style="margin-left:.5in"><!--[if !supportLists]--><span style="font-family:wingdings">&Oslash\;<span style="font-family:times new roman\; font-size:7pt">&nbsp\; </span></span><!--[endif]-->The complexity of growing a profitable brand</p>\n\n<p style="margin-left:.5in"><!--[if !supportLists]--><span style="font-family:wingdings">&Oslash\;<span style="font-family:times new roman\; font-size:7pt">&nbsp\; </span></span><!--[endif]-->How to deliver more luxurious\, yet more affordable brand<br />\n&nbsp\;</p>\n\n<p><a href="http://lead.prolim.com/PROLIM_CPG_Delivering_the_Brand.html"><strong>Register Now</strong></a></p>\n
LOCATION:30445 Northwestern Hwy\, Suite 380 Farmington Hills\, MI 48334
UID:e.9090.3138
SEQUENCE:3
DTSTAMP:20260423T060209Z
URL:https://business.techtitans.org/events/details/delivering-the-brand-through-plm-prolim-aug-19-08-19-2015-3138
END:VEVENT

END:VCALENDAR
