BEGIN:VCALENDAR
VERSION:2.0
PRODID:-//ChamberMaster//Event Calendar 2.0//EN
METHOD:PUBLISH
X-PUBLISHED-TTL:P3D
REFRESH-INTERVAL:P3D
CALSCALE:GREGORIAN
BEGIN:VEVENT
DTSTART:20161101T203000Z
DTEND:20161101T223000Z
X-MICROSOFT-CDO-ALLDAYEVENT:FALSE
SUMMARY:Dallas Tech Week- Tech Titans Reverse Pitch- Nov. 1
DESCRIPTION:Tech Titans\, The Technology Association for North Texas\, in cooperation with Capital One will conduct a data science reverse pitch event on Tuesday\, November 1st\, during Dallas Techweek.  The event will feature a keynote address by Romelia Flores\, IBM Distinguished Engineer and Master Inventor at IBM Global Solution Center speaking on IBM's data science initiatives including Watson cognitive technology.  Following Ms. Flores' remarks\, a distinguished panel of data science experts will discuss their organization's initiatives in big-data analytics\, machine learning and artificial intelligence.  Moderator Dave Copps\, CEO and Founder of Brainspace will pose questions to panelists Akhil Uniyal\, Global Head-Digital Transformation at Dell\, Frank Sepulveda\, data scientist at Pioneer Natural Resources\, David Whiting \, Head of Data Science Analysis-Financial Services at Capital One and Kevin Hunt\, Director of Biopharmaceutical Product Development and Head of Translational Science at UT Southwester about their big data initiatives\, what kind of challenges are they facing\, trends they are seeing in the industry\, and how the DFW innovation ecosystem can work together to tackle these problems. A networking reception will follow the panel discussion.  \n\n\n\n\n\nEvent will be from 3:30 - 5:30 pm\; followed by a happy hour from 5:30 - 6:30 pm\n\nClick here to register
X-ALT-DESC;FMTTYPE=text/html:<span style="font-size:14px\;"><span style="font-family:arial\;">Tech Titans\, The Technology Association for North Texas\, in cooperation with Capital One will conduct a data science reverse pitch event on Tuesday\, November 1<sup>st</sup>\, during Dallas Techweek.&nbsp\; The event will feature a keynote address by Romelia Flores\, <span style="background-image:initial\;background-attachment:initial\;background-size:initial\;background-origin:initial\;background-clip:initial\;background-position:initial\;background-repeat:initial\;">IBM Distinguished Engineer and Master Inventor at IBM Global Solution Center speaking on IBM&rsquo\;s data science initiatives including Watson cognitive technology.&nbsp\; Following Ms. Flores&rsquo\; remarks\, a distinguished panel of data science experts will discuss their organization&rsquo\;s initiatives in big-data analytics\, machine learning and artificial intelligence.&nbsp\; Moderator Dave Copps\, CEO and Founder of Brainspace will pose questions to panelists Akhil Uniyal\, Global Head-Digital Transformation at Dell\, Frank Sepulveda\, data scientist at Pioneer Natural Resources\, David Whiting \, Head of Data Science Analysis-Financial Services at Capital One and Kevin Hunt\, Director of Biopharmaceutical Product Development and Head of Translational Science at UT Southwester about their big data initiatives\, what kind of challenges are they facing\, trends they are seeing in the industry\, and how the DFW innovation ecosystem can work together to tackle these problems. A networking reception will follow the panel discussion.&nbsp\;&nbsp\;</span></span></span><br />\n<br />\n<br />\n<span style="font-size:16px\;"><span style="color:#0000FF\;"><strong>Event will be from 3:30 - 5:30 pm\; followed by a happy hour from 5:30 - 6:30 pm</strong></span></span><br />\n<strong><span style="font-size:14px\;"><a href="https://www.eventbrite.com/e/techweek-dallas-capital-one-garage-innovation-day-tickets-28657414097">Click here</a> to register</span></strong>
LOCATION:CapitalOne- The Garage 8000 Dominion Pkwy\, Plano 75024
UID:e.9090.3270
SEQUENCE:3
DTSTAMP:20260422T043656Z
URL:https://business.techtitans.org/events/details/dallas-tech-week-tech-titans-reverse-pitch-nov-1-3270
END:VEVENT

END:VCALENDAR
