BEGIN:VCALENDAR
VERSION:2.0
PRODID:-//ChamberMaster//Event Calendar 2.0//EN
METHOD:PUBLISH
X-PUBLISHED-TTL:P3D
REFRESH-INTERVAL:P3D
CALSCALE:GREGORIAN
BEGIN:VEVENT
DTSTART:20151002T130000Z
DTEND:20151002T193000Z
X-MICROSOFT-CDO-ALLDAYEVENT:FALSE
SUMMARY:*Cybersecurity Leadership Forum -Oct 2
DESCRIPTION:From the Collin County Business Alliance\n\n\n\nKeynote Speakers:  General Keith Alexander & General Michael V. Hayden\n\n\n\nRep. John Ratcliffe\, Malcolm Bales\, Gary Davis\, Tony Spinelli\, Don Good\, Jeremy Grant\, Steven Spano\, Dama Brown\, Dr. Frederick R. Chang\, Dr. Bhavani Thuraisingham\, Bradley Hayes.\n\n\n\nTop ICS\n\n\n\nThe Future of Cybersecurity\n\nGlobal Threat Intelligence and Trends\n\nA View from the Hill\n\nConnected Devices\n\nSecurity in the Boardroom\n\n\n\n\n\nPresented by Collin County Business Alliance\n\nIn collaboration with North Texas Crime Commission and Tech Titans The Technology Association for North Texas\n\nTitle Sponsors are Capital One and Intel Security
X-ALT-DESC;FMTTYPE=text/html:<strong>From the Collin County Business Alliance</strong><br />\n<br />\nKeynote Speakers: &nbsp\;General Keith Alexander &amp\; General Michael V. Hayden<br />\n<br />\nRep. John Ratcliffe\, Malcolm Bales\, Gary Davis\, Tony Spinelli\, Don Good\, Jeremy Grant\, Steven Spano\, Dama Brown\, Dr. Frederick R. Chang\, Dr. Bhavani Thuraisingham\, Bradley Hayes.<br />\n<br />\nTop ICS<br />\n<br />\nThe Future of Cybersecurity<br />\nGlobal Threat Intelligence and Trends<br />\nA View from the Hill<br />\nConnected Devices<br />\nSecurity in the Boardroom<br />\n<br />\n<br />\nPresented by Collin County Business Alliance<br />\nIn collaboration with North Texas Crime Commission and Tech Titans The Technology Association for North Texas<br />\nTitle Sponsors are Capital One and Intel Security
LOCATION:Capital One Conference Center 8036 Dominion Parkway Plano\, 75024
UID:e.9090.3151
SEQUENCE:3
DTSTAMP:20260423T014230Z
URL:https://business.techtitans.org/events/details/cybersecurity-leadership-forum-oct-2-10-02-2015-3151
END:VEVENT

END:VCALENDAR
