BEGIN:VCALENDAR
VERSION:2.0
PRODID:-//ChamberMaster//Event Calendar 2.0//EN
METHOD:PUBLISH
X-PUBLISHED-TTL:P3D
REFRESH-INTERVAL:P3D
CALSCALE:GREGORIAN
BEGIN:VEVENT
DTSTART:20150520T123000Z
DTEND:20150520T140000Z
X-MICROSOFT-CDO-ALLDAYEVENT:FALSE
SUMMARY:Cybersecurity Forum - May 20
DESCRIPTION:"Ask the Experts - a Panel of CISO's (Chief Information Security Officers) Discuss the Events of the Past 18 Months"\n\nThere have been several major events in the ongoing battle between corporations and hackers in recent months. \n\nHear the latest from our expert panel\, including: \n\nBrian Wrozek\, Chief Security Officer\, Alliance Data\n\nJeff Schilling\, Chief Security Officer\, Firehost\n\nJeff Shaffer\, former Director of the Secret Service Computer/Telecom Forensics Lab   now with PwC Cyber Advisory \n\nModerator: Matt Glover\, Senior Director of Global IT\, AMX \n\n\n\nTopics include:\n\n\n	Changing threat landscape and what companies are doing about it\n	Advanced persistent threats\n	Exfiltration\n	Changing role of CISO's\n	Emerging security technologies
X-ALT-DESC;FMTTYPE=text/html:<div style="color: gray\;">\n<p><strong>&quot\;Ask the Experts - a Panel of CISO&#39\;s (Chief Information Security Officers) Discuss the Events of the Past 18 Months&quot\;</strong></p>\n\n<p><span style="font-family:calibri\;">There have been several major events in the ongoing battle between corporations and hackers in recent months. </span></p>\n\n<p><span style="font-family:calibri\;">Hear the latest from our expert panel\, including: </span></p>\n\n<p><span style="font-family:calibri\;"><strong>Brian Wrozek\, Chief Security Officer\, Alliance Data</strong><br />\n<strong>Jeff Schilling\, Chief Security Officer\, Firehost</strong><br />\n<strong>Jeff Shaffer\, former Director of the Secret Service Computer/Telecom Forensics Lab &ndash\; now with PwC Cyber Advisory </strong></span><br />\n<strong><span style="font-family:calibri\;">Moderator: Matt Glover\, Senior Director of Global IT\, </span><span style="font-family:calibri\;">AMX</span><span style="font-family:calibri\;"> </span><br />\n<br />\n<span style="font-family:calibri\;">Topics include:</span></strong></p>\n\n<ul>\n	<li><span style="font-family:calibri\;">Changing threat landscape and what companies are doing about it</span></li>\n	<li><span style="font-family:calibri\;">Advanced persistent threats</span></li>\n	<li><span style="font-family:calibri\;">Exfiltration</span></li>\n	<li><span style="font-family:calibri\;">Changing role of CISO&rsquo\;s</span></li>\n	<li><span style="font-family:calibri\;">Emerging security technologies</span></li>\n</ul>\n</div>\n
LOCATION:H5Colo Data Center 12712 Park Central Dr.\, Suite 200 Dallas\, TX 75251 H5 Colo Data Center is the former JC Penney Data Center\, and is next to the 15 story Triumph Tower and Corner Bakery. PARKING: On the south side of the tower.
UID:e.9090.3121
SEQUENCE:3
DTSTAMP:20260423T082148Z
URL:https://business.techtitans.org/events/details/cybersecurity-forum-may-20-05-20-2015-3121
END:VEVENT

END:VCALENDAR
