BEGIN:VCALENDAR
VERSION:2.0
PRODID:-//ChamberMaster//Event Calendar 2.0//EN
METHOD:PUBLISH
X-PUBLISHED-TTL:P3D
REFRESH-INTERVAL:P3D
CALSCALE:GREGORIAN
BEGIN:VEVENT
DTSTART:20170202T210000Z
DTEND:20170202T230000Z
X-MICROSOFT-CDO-ALLDAYEVENT:FALSE
SUMMARY:Cybersecurity Forum Event- Feb. 2
DESCRIPTION:"Ransomware   Am I at Risk and How do I Defend Against It?"\n\n\n\nFeaturing a panel including: \n\nMike Weber   VP at Coalfire\n\nMike Simone   VP at Moss Adams\n\nFrancis Tam - Partner at Moss Adams\n\nKevin Wheeler   Managing Director - InfoDefense\n\n\n\nYou have heard the stories in the news\, but how does a person or company protect themselves from having their data locked up and encrypted? Join our panel of experts to hear about the actual cases and best practices to avoid becoming a victim of this rapidly rising threat.
X-ALT-DESC;FMTTYPE=text/html:<strong>&quot\;Ransomware &ndash\; Am I at Risk and How do I Defend Against It?&quot\;</strong><br />\n<br />\nFeaturing a panel including:&nbsp\;<br />\n<strong>Mike Weber &ndash\; VP at Coalfire</strong><br />\n<strong>Mike Simone &ndash\; VP at Moss Adams</strong><br />\n<strong>Francis Tam - Partner at Moss Adams</strong><br />\n<strong>Kevin Wheeler &ndash\; Managing Director - InfoDefense</strong><br />\n<br />\n<strong>You have heard the stories in the news\, but how does a person or company protect themselves from having their data locked up and encrypted?&nbsp\;</strong><strong>Join our panel of experts to hear about the actual cases and best practices to avoid becoming a victim of this rapidly rising threat.</strong><br />\n&nbsp\;
LOCATION:CyrusOne Data Center 1649.W Frankford Rd.\, Carrollton\, TX. 75007
UID:e.9090.3303
SEQUENCE:3
DTSTAMP:20260421T235656Z
URL:https://business.techtitans.org/events/details/cybersecurity-forum-event-feb-2-3303
END:VEVENT

END:VCALENDAR
