BEGIN:VCALENDAR
VERSION:2.0
PRODID:-//ChamberMaster//Event Calendar 2.0//EN
METHOD:PUBLISH
X-PUBLISHED-TTL:P3D
REFRESH-INTERVAL:P3D
CALSCALE:GREGORIAN
BEGIN:VEVENT
DTSTART:20160427T123000Z
DTEND:20160427T140000Z
X-MICROSOFT-CDO-ALLDAYEVENT:FALSE
SUMMARY:Cybersecurity Forum - April 27
DESCRIPTION:You're invited to the 2016 Cyber Liability Insurance Seminar and Market Update!\n\nJoin Brittany George\, Kaitlin Upchurch\, Scott Schleicher and Will Daugherty for an update on the "State of the Market"  for Cyber Liability Insurance.
X-ALT-DESC;FMTTYPE=text/html:<div style="color: gray\;">\n<p><b>You&#39\;re invited to the 2016 Cyber Liability Insurance&nbsp\;Seminar and Market&nbsp\;Update!</b></p>\n\n<p><span style="font-family:calibri\;">Join Brittany George\, Kaitlin&nbsp\;Upchurch\, Scott Schleicher and Will Daugherty&nbsp\;for an update on the &quot\;State&nbsp\;of the Market&quot\;&nbsp\;&nbsp\;for Cyber Liability Insurance.&nbsp\;</span></p>\n</div>\n
LOCATION:Weaver 12221 Merit Drive\, 2nd Floor Dallas\, TX 75251
UID:e.9090.3203
SEQUENCE:3
DTSTAMP:20260422T154825Z
URL:https://business.techtitans.org/events/details/cybersecurity-forum-april-27-04-27-2016-3203
END:VEVENT

END:VCALENDAR
