BEGIN:VCALENDAR
VERSION:2.0
PRODID:-//ChamberMaster//Event Calendar 2.0//EN
METHOD:PUBLISH
X-PUBLISHED-TTL:P3D
REFRESH-INTERVAL:P3D
CALSCALE:GREGORIAN
BEGIN:VEVENT
DTSTART:20160317T160000Z
DTEND:20160317T190000Z
X-MICROSOFT-CDO-ALLDAYEVENT:FALSE
SUMMARY:*Consolidated Communications Lunch N' Learn- March 17
DESCRIPTION:Can you have a data center support your business growth and IT strategies without being a cost center inhibitor?\n\nJoin us for lunch and become educated on how a data center can ensure high availability for applications\, databases\, storage\, and business continuity.\n\nData centers\, combined with an expansive transport network\, provide a resilient\, feature-rich and cost effective server hosting solution.\n\n\n\nOur Guest Speaker will be Kelly Wood\, Sales Engineer from ViaWest.\n\nAll attendees will have a chance to win an Apple TV and visa gift cards. \n\n\n\nClick here to register
X-ALT-DESC;FMTTYPE=text/html:<p><span style="font-family:arial\;"><span style="color:5050118\;"><strong><span style="font-size: 12pt\;">Can you have a data center support your business growth and IT strategies without being a cost center inhibitor?</span></strong></span><br />\n<span style="color:#000000\;"><span style="font-size: 12pt\;">Join us for lunch and become educated on how a data center can ensure high availability for applications\, databases\, storage\, and business continuity.<br />\nData centers\, combined with an expansive transport</span><span style="font-size: 12pt\;"> network\, provide a resilient\, feature-rich and cost effective server hosting solution.</span><br />\n<br />\n<span style="font-size: 12pt\;">Our </span><span style="font-size: 12.5pt\;">Guest Speaker will be </span><span style="font-size: 12pt\;"><strong>Kelly Wood</strong>\, </span><span style="font-size: 12pt\;">Sales Engineer from <strong>ViaWest</strong>.<br />\n<em>All attendees will have a chance to win an Apple TV and visa gift cards. </em></span></span></span><br />\n<br />\n<span style="font-size:18px\;"><u><a href="https://www.consolidated.com/Landing/Dallas-Events"><span style="color:#000080\;">Click here</span></a></u><span style="color: rgb(0\, 0\, 0)\;"> to register</span></span></p>\n
LOCATION:Cool River Caf 1045 Hidden Ridge Irving\, TX 75038
UID:e.9090.3181
SEQUENCE:3
DTSTAMP:20260422T174729Z
URL:https://business.techtitans.org/events/details/consolidated-communications-lunch-n-learn-march-17-03-17-2016-3181
END:VEVENT

END:VCALENDAR
