BEGIN:VCALENDAR
VERSION:2.0
PRODID:-//ChamberMaster//Event Calendar 2.0//EN
METHOD:PUBLISH
X-PUBLISHED-TTL:P3D
REFRESH-INTERVAL:P3D
CALSCALE:GREGORIAN
BEGIN:VEVENT
DTSTART:20140213T233000Z
DTEND:20140214T010000Z
X-MICROSOFT-CDO-ALLDAYEVENT:FALSE
SUMMARY:Connections Happy Hour - Feb 13
DESCRIPTION:Connect with other tech enthusiasts in real-time and face-to-face at the monthly happy hour for MTBC. Held the second Thursday of the month at The Social House in Addison\, MTBC Connections gives you the opportunity to meet other tech playmakers in DFW\, reconnect with past partners\, and find out the latest happenings in the DFW tech scene. This event is being sponsored by Citibank Technology Services.
X-ALT-DESC;FMTTYPE=text/html:<div style="font-family: Arial\;">\n	<div style="color: gray\;">\n		<font size="2">Connect with other tech enthusiasts in real-time and face-to-face at the monthly happy hour for MTBC. Held the second Thursday of the month at The Social House in Addison\, MTBC Connections gives you the opportunity to meet other tech playmakers in DFW\, reconnect with past partners\, and find out the latest happenings in the DFW tech scene. This event is being sponsored by </font>Citibank Technology Services.&nbsp\;</div>\n	<p>\n		&nbsp\;</p>\n	<p class="MsoNormal" style="margin: 0in 0in 0pt\;">\n		&nbsp\;</p>\n	<p class="MsoNormal" style="margin: 0in 0in 0pt\;">\n		&nbsp\;</p>\n	<p class="MsoNormal" style="margin: 0in 0in 0pt\;">\n		&nbsp\;</p>\n	<p>\n		&nbsp\;</p>\n	<p class="MsoNormal" style="margin: 0in 0in 0pt\;">\n		&nbsp\;</p>\n	<p class="MsoNormal" style="margin: 0pt\; mso-margin-bottom-alt: auto\;">\n		&nbsp\;</p>\n</div>\n
LOCATION:The Social House in Addison 5100 Belt Line Rd.\, #410 Addison\, TX 75254
UID:e.9090.2845
SEQUENCE:3
DTSTAMP:20260424T075815Z
URL:https://business.techtitans.org/events/details/connections-happy-hour-feb-13-02-13-2014-2845
END:VEVENT

END:VCALENDAR
