BEGIN:VCALENDAR
VERSION:2.0
PRODID:-//ChamberMaster//Event Calendar 2.0//EN
METHOD:PUBLISH
X-PUBLISHED-TTL:P3D
REFRESH-INTERVAL:P3D
CALSCALE:GREGORIAN
BEGIN:VEVENT
DTSTART:20160915T130000Z
DTEND:20160915T143000Z
X-MICROSOFT-CDO-ALLDAYEVENT:FALSE
SUMMARY:Cloud Forum - Sept. 15
DESCRIPTION:"Considering a hybrid cloud solution?"  Join us for our Cloud Forum Event and visit with leaders in the industry.\n\n\n\nFeaturing  panelists:\n\n\n\n Megaport \n\nDavid McCullough - Cloud Strategy Director\, San Francisco\n\nWill Pittman - EcoSystem Director - Central Region\, Austin\n\nMegaport is a leader in elastic interconnection taking you from any location\, to any service\, on your terms.  They connect an Enterprise location to a host of public cloud suites including AWS\, Azure\, and Google.\n\n\n\nUnitas Global  \n\nScott Pullin - Director\, Business Development  \n\nUnitas designs\, deploys\, and manages your IT infrastructure globally. They've developed cloud solutions for companies like T-Mobile\, Fandango and Allied Wallet.
X-ALT-DESC;FMTTYPE=text/html:<p><strong><span style="font-size:16px\;">&quot\;Considering a hybrid cloud solution?&quot\; &nbsp\;Join us for our Cloud Forum Event&nbsp\;and visit with leaders in the industry.</span></strong><br />\n<br />\n<span style="font-size: 16px\;">Featuring &nbsp\;panelists:</span><br />\n<br />\n<a href="https://www.megaport.com/">&#8203\;</a><span style="font-size:16px\;"><a href="https://www.megaport.com/"><strong>Megaport</strong></a>&nbsp\;<br />\n<strong>David McCullough - Cloud Strategy Director\,&nbsp\;San Francisco<br />\nWill Pittman - EcoSystem Director - Central Region\, Austin</strong><br />\nMegaport is a&nbsp\;leader in elastic interconnection taking you from any location\, to any service\, on your terms.&nbsp\; They connect an Enterprise location to a host of public cloud suites including AWS\, Azure\, and Google.<br />\n<br />\n<a href="http://www.unitasglobal.com/"><strong>Unitas</strong></a><a href="http://www.unitasglobal.com/"><strong> Globa</strong>l</a> &nbsp\;<br />\n<strong>Scott Pullin -&nbsp\;Director\, Business Development&nbsp\;</strong>&nbsp\;<br />\nUnitas designs\, deploys\, and manages your IT infrastructure globally.&nbsp\;They&rsquo\;ve developed cloud solutions for companies like T-Mobile\, Fandango and&nbsp\;Allied Wallet.</span><br />\n&nbsp\;</p>\n
LOCATION:Tech Titans offices 411 Belle Grove Dr. Richardson\, TX 75080 MAP
UID:e.9090.3254
SEQUENCE:3
DTSTAMP:20260422T074809Z
URL:https://business.techtitans.org/events/details/cloud-forum-sept-15-09-15-2016-3254
END:VEVENT

END:VCALENDAR
