BEGIN:VCALENDAR
VERSION:2.0
PRODID:-//ChamberMaster//Event Calendar 2.0//EN
METHOD:PUBLISH
X-PUBLISHED-TTL:P3D
REFRESH-INTERVAL:P3D
CALSCALE:GREGORIAN
BEGIN:VEVENT
DTSTART:20151202T140000Z
DTEND:20151202T153000Z
X-MICROSOFT-CDO-ALLDAYEVENT:FALSE
SUMMARY:Cloud Forum program Dec 2
DESCRIPTION:RSVP for the next Cloud Forum Program on Wednesday\, December 2\n\n\n\nTopic: "Market Update on DFW Data centers"\n\nFeaturing panelists:\n\n\n\nJerry Blair\, VP Sales and Founder\, DataBank\n\nRob Morris\, CEO\, Skybox Datacenters\n\nBrent Behrman\, Senior VP\, Compass Data Centers\n\nand moderated by Curt Holcomb\, Executive VP\, JLL Datacenter Solutions\n\n\n\nDataBank\n\nDataBank is a leading provider of enterprise-class business solutions for Data Center\, Managed Services\, and Cloud.  DataBank is headquartered in the historic Federal Reserve Bank Building in downtown Dallas and has additional data centers in North Dallas\, Minneapolis and Kansas City.\n\n\n\nSkybox Datacenters\n\nSkybox Datacenters builds and operates world-class data center facilities for enterprise grade users with ultra-low latency connectivity and mission critical protection as a core focus of their platform. Each Skybox facility is uniquely crafted to its particular market and demands of its users.\n\n\n\nCompass Data Centers\n\nFounded in 2011\, Compass has a goal of providing customers with a solution that reflects a dramatic change from conventional alternatives like wholesale colocation or build to suit.The executive team has built $3 billion in data centers and operated over 6 million SF of raised floor all over the world.\n\n\n\nCurt Holcomb\n\nCurt is an Executive Vice President and the Co-Leader of Jones Lang LaSalle's global Data Center Solutions practice team.  He has over 19 years' experience in the commercial real estate industry and has become a recognized leader in the technical real estate industry.  He focuses on all facets of this niche segment of commercial real estate including user representation\, investment sales\, project leasing and development. During the last 5 years\, Curt has transacted over 3 million square feet of data centers in multiple markets around the United States.
X-ALT-DESC;FMTTYPE=text/html:<p><span style="font-size:16px\;"><strong>RSVP for the next Cloud Forum Program on Wednesday\, December 2</strong></span><br />\n<br />\n<strong>Topic: &quot\;Market Update on DFW Data centers&quot\;</strong></p>\n\n<p>Featuring panelists:<br />\n<br />\n<strong>Jerry Blair\, VP Sales and Founder\, DataBank<br />\nRob Morris\, CEO\, Skybox Datacenters<br />\nBrent Behrman\, Senior VP\, Compass Data Centers</strong><br />\nand moderated by <strong>Curt Holcomb\, Executive VP\, JLL Datacenter Solutions<br />\n<br />\nDataBank</strong><br />\nDataBank is a leading provider of enterprise-class business solutions for Data Center\, Managed Services\, and Cloud.&nbsp\; DataBank is headquartered in the historic Federal Reserve Bank Building in downtown Dallas and has additional data centers in North Dallas\, Minneapolis and Kansas City.<br />\n<br />\n<strong>Skybox Datacenters</strong><br />\nSkybox Datacenters builds and operates world-class data center facilities for enterprise grade users with ultra-low latency connectivity and mission critical protection as a core focus of their platform. Each Skybox facility is uniquely crafted to its particular market and demands of its users.<br />\n<br />\n<strong>Compass Data Centers</strong><br />\nFounded in 2011\, Compass has a goal of providing customers with a solution that reflects a dramatic change from conventional alternatives like wholesale colocation or build to suit.The executive team has built $3 billion in data centers and operated over 6 million SF of raised floor all over the world.<br />\n<br />\n<strong>Curt Holcomb</strong><br />\nCurt is an Executive Vice President and the Co-Leader of Jones Lang LaSalle&rsquo\;s global Data Center Solutions practice team.&nbsp\; He has over 19 years&rsquo\; experience in the commercial real estate industry and has become a recognized leader in the technical real estate industry.&nbsp\; He focuses on all facets of this niche segment of commercial real estate including user representation\, investment sales\, project leasing and development. During the last 5 years\, Curt has transacted over 3 million square feet of data centers in multiple markets around the United States.<br />\n&nbsp\;</p>\n
LOCATION:Tech Titans Board Room 411 Belle Grove Dr. Richardson\, TX 75080 MAP
UID:e.9090.3163
SEQUENCE:3
DTSTAMP:20260422T223004Z
URL:https://business.techtitans.org/events/details/cloud-forum-program-dec-2-12-02-2015-3163
END:VEVENT

END:VCALENDAR
