BEGIN:VCALENDAR
VERSION:2.0
PRODID:-//ChamberMaster//Event Calendar 2.0//EN
METHOD:PUBLISH
X-PUBLISHED-TTL:P3D
REFRESH-INTERVAL:P3D
CALSCALE:GREGORIAN
BEGIN:VEVENT
DTSTART:20160609T130000Z
DTEND:20160609T143000Z
X-MICROSOFT-CDO-ALLDAYEVENT:FALSE
SUMMARY:Cloud Forum - June 9
DESCRIPTION:"Data center market update & trends for 2016"\n\n\n\nFeaturing  panelists:\n\n\n\nTom Myers\, ViaWest \n\nDavid Liggitt\, datacenterHawk\n\nAnthony Bolner\, Stream Data Centers \n\nand moderated by Curt Holcomb\, executive VP\, JLL Datacenter Solutions\n\n\n\ndatacenterHawk\n\n datacenterHawk is a convenient "one-stop-shop" for IT professionals\, consultants\, data center operators and investors to find data center and cloud solutions.\n\n\n\nViaWest\n\nWith more than 16 years of experience\, we are experts in IT and Infrastructure solutions and are uniquely positioned to help meet your scalability\, reliability and security requirements while balancing your costs and business goals. At 30 data centers and growing\, ViaWest is focused on providing our customers with Hybrid IT solutions delivered through local teams and facilities that are built to ensure the availability of your data and applications. We own and operate enterprise-class data centers in Colorado\, Utah\, Oregon\, Nevada\, Texas\, Minnesota\, Arizona\, and in Calgary\, Canada. ViaWest offers a full-suite of IT services\, from cloud storage solutions\, colocation to IT consulting\; and as a result\, we have the flexibility to meet your needs now and in the future.\n\n\n\nStream Data Centers\n\nStream Data Centers (SDC) specializes in developing secure\, independent\, highly efficient data centers for corporate users. Since 1999\, SDC has acquired\, developed and operated more than 1.5 million square feet of data center space\, representing over 156 megawatts of power. SDC Technology Services provides best-in-class support and management of the company's data center portfolio.\n\n\n\nCurt Holcomb\n\nCurt is an Executive Vice President and the Co-Leader of Jones Lang LaSalle's global Data Center Solutions practice team.  He has over 19 years' experience in the commercial real estate industry and has become a recognized leader in the technical real estate industry.  He focuses on all facets of this niche segment of commercial real estate including user representation\, investment sales\, project leasing and development. During the last 5 years\, Curt has transacted over 3 million square feet of data centers in multiple markets around the United States.
X-ALT-DESC;FMTTYPE=text/html:<p><span style="font-size: 16px\;"><strong>&quot\;Data center market update &amp\; trends for 2016&quot\;</strong><br />\n<br />\nFeaturing &nbsp\;panelists:<br />\n<br />\n<strong>Tom Myers\, ViaWest&nbsp\;<br />\nDavid Liggitt\, datacenterHawk<br />\nAnthony Bolner\, Stream Data Centers&nbsp\;</strong><br />\nand moderated by&nbsp\;<strong>Curt Holcomb</strong>\, executive&nbsp\;VP\, JLL Datacenter Solutions<br />\n<br />\n<span style="font-size:14px\;"><strong>datacenterHawk<br />\n&#8203\;</strong></span></span><span style="font-size:14px\;"><span style="color: rgb(114\, 114\, 114)\; line-height: 20px\; background-color: rgb(255\, 255\, 255)\;">datacenterHawk is a convenient &quot\;one-stop-shop&quot\; for IT professionals\, consultants\, data center operators and investors to find data center and cloud solutions.<br />\n<br />\n<strong>ViaWest</strong></span><br />\n<span style="color: rgb(112\, 111\, 111)\; line-height: 26px\;">With more than 16 years of experience\, we are experts in IT and Infrastructure solutions and are uniquely positioned to help meet your scalability\, reliability and security requirements while balancing your costs and business goals. At 30 data centers and growing\, ViaWest is focused on providing our customers with Hybrid IT solutions delivered through local teams and facilities that are built to ensure the availability of your data and applications. We own and operate enterprise-class data centers in Colorado\, Utah\, Oregon\, Nevada\, Texas\, Minnesota\, Arizona\, and in Calgary\, Canada. ViaWest offers a full-suite of IT services\, from cloud storage solutions\, colocation to IT consulting\; and as a result\, we have the flexibility to meet your needs now and in the future.</span></span><br />\n<br />\n<strong>Stream Data Centers</strong><br />\nStream Data Centers (SDC) specializes in developing secure\, independent\, highly efficient data centers for corporate users. Since 1999\, SDC has acquired\, developed and operated more than 1.5 million square feet of data center space\, representing over 156 megawatts of power. SDC Technology Services provides best-in-class support and management of the company&#39\;s data center portfolio.<br />\n<br />\n<strong>Curt Holcomb</strong><br />\nCurt is an Executive Vice President and the Co-Leader of Jones Lang LaSalle&rsquo\;s global Data Center Solutions practice team. &nbsp\;He has over 19 years&rsquo\; experience in the commercial real estate industry and has become a recognized leader in the technical real estate industry. &nbsp\;He focuses on all facets of this niche segment of commercial real estate including user representation\, investment sales\, project leasing and development. During the last 5 years\, Curt has transacted over 3 million square feet of data centers in multiple markets around the United States.</p>\n
LOCATION:Tech Titans offices 411 Belle Grove Dr. Richardson\, TX 75080 MAP
UID:e.9090.3211
SEQUENCE:3
DTSTAMP:20260422T122158Z
URL:https://business.techtitans.org/events/details/cloud-forum-june-9-06-09-2016-3211
END:VEVENT

END:VCALENDAR
