BEGIN:VCALENDAR
VERSION:2.0
PRODID:-//ChamberMaster//Event Calendar 2.0//EN
METHOD:PUBLISH
X-PUBLISHED-TTL:P3D
REFRESH-INTERVAL:P3D
CALSCALE:GREGORIAN
BEGIN:VEVENT
DTSTART:20160421T130000Z
DTEND:20160421T143000Z
X-MICROSOFT-CDO-ALLDAYEVENT:FALSE
SUMMARY:Cloud Forum- April 21
DESCRIPTION:"Enterprise Cloud Strategies"\n\nFeaturing:\n\nChris Buri\, CIO\, Hitachi Consulting\n\nVid Sista\, Director Data Center\, Accudata Systems\n\nJoe Bagdon\, Applied Trust\n\n\n\nWhatever your small or medium sized business may be\, you won't want to miss this opportunity to hear what the best practices are in formulating a unique Cloud strategy for your business.  The most effective Cloud strategy for a boutique law firm may not the best for a healthcare\, specialty retail or financial services business. Some of the leading local experts on Cloud Computing will steer you away from the pitfalls and  in the right direction through this interactive exchange. The Cloud Forum is open to members and non-members alike.
X-ALT-DESC;FMTTYPE=text/html:<p><span style="color:#000000\;"><span style="font-family:verdana\;"><span style="font-size:16px\;"><strong>&quot\;Enterprise Cloud Strategies&quot\;</strong></span><br />\n<span style="font-size: 13px\;">Featuring:</span><br />\n<strong style="font-family: Arial\; font-size: 13px\;">Chris Buri</strong><span style="font-size: 13px\;">\, CIO\, Hitachi Consulting</span><br />\n<strong style="font-family: Arial\; font-size: 13px\;">Vid Sista</strong><span style="font-size: 13px\;">\, Director Data Center\, Accudata Systems</span><br />\n<strong style="font-family: Arial\; font-size: 13px\;">Joe Bagdon</strong><span style="font-size: 13px\;">\, Applied Trust</span><br />\n<br />\n<span style="font-size:12px\;">Whatever your small or medium sized business may be\, you won&rsquo\;t want to miss this opportunity to hear what the best practices are in formulating a unique Cloud strategy for your business. &nbsp\;The most effective Cloud strategy for a boutique law firm may not the best for a healthcare\, specialty retail or financial services business. Some of the leading local experts on Cloud Computing will steer you away from the pitfalls and &nbsp\;in the right direction through this interactive exchange. The Cloud Forum is open to members and non-members alike.</span></span></span></p>\n
LOCATION:Tech Titans offices 411 Belle Grove Dr. Richardson\, TX 75080
UID:e.9090.3199
SEQUENCE:3
DTSTAMP:20260422T160047Z
URL:https://business.techtitans.org/events/details/cloud-forum-april-21-04-21-2016-3199
END:VEVENT

END:VCALENDAR
