BEGIN:VCALENDAR
VERSION:2.0
PRODID:-//ChamberMaster//Event Calendar 2.0//EN
METHOD:PUBLISH
X-PUBLISHED-TTL:P3D
REFRESH-INTERVAL:P3D
CALSCALE:GREGORIAN
BEGIN:VEVENT
DTSTART:20190908T010000Z
DTEND:20190908T030000Z
X-MICROSOFT-CDO-ALLDAYEVENT:FALSE
SUMMARY:*Celestial Celebration: Music\, Art and Technology\, Sept. 7
DESCRIPTION:Celestial Celebration:  Music\, Art\, and Technology\n\nMake plans now to enjoy a one-night only performance based on a collaboration between the Richardson Symphony Orchestra (RSO) and the School of Arts\, Technology\, and Emerging Communication (ATEC) at the University of Texas at Dallas.\n\n"Celestial Celebration:  Music\, Art\, and Technology\," features orchestral performances of Music of the Spheres\, by Josef Strauss\, Claude Debussy's Claire de Lune\, and Gustav Holst's The Planets. The performances includes nine pieces of visual music created by ATEC Animation faculty and students.  \n\n \n\nATEC's Public Interactives Research Lab (PIRL) also created four interactive experiences inspired by the 50th Anniversary of the Apollo Moon Landing. The collaboration between UTD and RSO commemorates the 50th Anniversary of the founding of the University of Texas at Dallas.\n\n\n\nThis program is made possible thanks to the generous support from the Ann and Charles Eisemann Arts Innovation Initiative.
X-ALT-DESC;FMTTYPE=text/html:<strong><u>Celestial Celebration:&nbsp\; Music\, Art\, and Technology</u></strong><br />\nMake plans now to enjoy a&nbsp\;<span style="color:black\;">one-night only performance based on a collaboration between the Richardson Symphony Orchestra (RSO) and the School of Arts\, Technology\, and Emerging Communication (ATEC) at the University of Texas at Dallas.<br />\n&ldquo\;<em>Celestial Celebration: &nbsp\;Music\, Art\, and Technology\,</em>&rdquo\;&nbsp\;features</span>&nbsp\;orchestral performances of&nbsp\;<em>Music of the Spheres\,&nbsp\;</em>by Josef Strauss\, Claude Debussy&rsquo\;s&nbsp\;<em>Claire de Lune</em>\, and Gustav Holst&rsquo\;s&nbsp\;<em>The Planets</em>.&nbsp\;The performances includes&nbsp\;nine pieces of visual music created by ATEC Animation faculty and students. &nbsp\;<br />\n&nbsp\;<br />\n<span style="color:black\;">ATEC&rsquo\;s Public Interactives Research Lab (PIRL) also created&nbsp\;four interactive experiences&nbsp\;inspired by the 50th Anniversary of the Apollo Moon Landing. The collaboration between UTD and RSO commemorates the 50th Anniversary of the founding of the University of Texas at Dallas.</span><br />\n<br />\n<em><span style="color:black\;"><span style="font-family:calibri\,sans-serif\;"><span style="font-size:10.0pt\;">This program is made possible thanks to the generous support from the Ann and Charles Eisemann Arts Innovation Initiative.</span></span></span></em>
LOCATION:Eisemann Center for the Performing Arts 2351 Performance Dr. Richardson\, TX 75082
UID:e.9090.4537
SEQUENCE:3
DTSTAMP:20260421T205254Z
URL:https://business.techtitans.org/events/details/celestial-celebration-music-art-and-technology-sept-7-4537
END:VEVENT

END:VCALENDAR
