BEGIN:VCALENDAR
VERSION:2.0
PRODID:-//ChamberMaster//Event Calendar 2.0//EN
METHOD:PUBLISH
X-PUBLISHED-TTL:P3D
REFRESH-INTERVAL:P3D
CALSCALE:GREGORIAN
BEGIN:VEVENT
DTSTART:20150409T163000Z
DTEND:20150409T180000Z
X-MICROSOFT-CDO-ALLDAYEVENT:FALSE
SUMMARY:Business Intelligence (Lunch and Learn) - April 9
DESCRIPTION:"Analysis of Big Versus Rich Healthcare Data"\n\nFeaturing: Richard Gilder\, MR RN-BC\, Nursing Analysis Champion\, Office of Patient Safety\, Baylor Scott & White Health
X-ALT-DESC;FMTTYPE=text/html:<div>\n<div><span style="color: #666699\;"><strong>&quot\;Analysis of Big Versus Rich Healthcare Data&quot\;</strong></span><br />\n<strong>Featuring: Richard Gilder</strong>\, MR RN-BC\, Nursing Analysis Champion\, Office of Patient Safety\, Baylor Scott &amp\; White Health</div>\n</div>\n
LOCATION:H5 Colo 12712 Park Central Drive\, Dallas 75251
UID:e.9090.3088
SEQUENCE:3
DTSTAMP:20260423T112814Z
URL:https://business.techtitans.org/events/details/business-intelligence-lunch-and-learn-april-9-04-09-2015-3088
END:VEVENT

END:VCALENDAR
