BEGIN:VCALENDAR
VERSION:2.0
PRODID:-//ChamberMaster//Event Calendar 2.0//EN
METHOD:PUBLISH
X-PUBLISHED-TTL:P3D
REFRESH-INTERVAL:P3D
CALSCALE:GREGORIAN
BEGIN:VEVENT
DTSTART:20150924T163000Z
DTEND:20150924T180000Z
X-MICROSOFT-CDO-ALLDAYEVENT:FALSE
SUMMARY:Business Intelligence forum meeting- Sept. 24
DESCRIPTION:
X-ALT-DESC;FMTTYPE=text/html:
LOCATION:MTBC board room 411 Belle Grove Dr. Richardson 75080
UID:e.9090.3075
SEQUENCE:3
DTSTAMP:20260423T044911Z
URL:https://business.techtitans.org/events/details/business-intelligence-forum-meeting-sept-24-09-24-2015-3075
END:VEVENT

END:VCALENDAR
