BEGIN:VCALENDAR
VERSION:2.0
PRODID:-//ChamberMaster//Event Calendar 2.0//EN
METHOD:PUBLISH
X-PUBLISHED-TTL:P3D
REFRESH-INTERVAL:P3D
CALSCALE:GREGORIAN
BEGIN:VEVENT
DTSTART:20150723T163000Z
DTEND:20150723T180000Z
X-MICROSOFT-CDO-ALLDAYEVENT:FALSE
SUMMARY:Business Intelligence forum meeting- July 23
DESCRIPTION:
X-ALT-DESC;FMTTYPE=text/html:
LOCATION:MTBC board room 411 Belle Grove Dr. Richardson 75080
UID:e.9090.3073
SEQUENCE:3
DTSTAMP:20260423T060643Z
URL:https://business.techtitans.org/events/details/business-intelligence-forum-meeting-july-23-07-23-2015-3073
END:VEVENT

END:VCALENDAR
