BEGIN:VCALENDAR
VERSION:2.0
PRODID:-//ChamberMaster//Event Calendar 2.0//EN
METHOD:PUBLISH
X-PUBLISHED-TTL:P3D
REFRESH-INTERVAL:P3D
CALSCALE:GREGORIAN
BEGIN:VEVENT
DTSTART:20151217T173000Z
DTEND:20151217T190000Z
X-MICROSOFT-CDO-ALLDAYEVENT:FALSE
SUMMARY:Business Intelligence forum meeting- Dec. 17
DESCRIPTION:
X-ALT-DESC;FMTTYPE=text/html:
LOCATION:MTBC board room 411 Belle Grove Dr. Richardson 75080
UID:e.9090.3078
SEQUENCE:3
DTSTAMP:20260422T224210Z
URL:https://business.techtitans.org/events/details/business-intelligence-forum-meeting-dec-17-12-17-2015-3078
END:VEVENT

END:VCALENDAR
