BEGIN:VCALENDAR
VERSION:2.0
PRODID:-//ChamberMaster//Event Calendar 2.0//EN
METHOD:PUBLISH
X-PUBLISHED-TTL:P3D
REFRESH-INTERVAL:P3D
CALSCALE:GREGORIAN
BEGIN:VEVENT
DTSTART:20150326T163000Z
DTEND:20150326T180000Z
X-MICROSOFT-CDO-ALLDAYEVENT:FALSE
SUMMARY:Business Intelligence forum meeting - 2015 March
DESCRIPTION:
X-ALT-DESC;FMTTYPE=text/html:
LOCATION:MTBC board room 411 Belle Grove Dr. Richardson 75080
UID:e.9090.3069
SEQUENCE:3
DTSTAMP:20260423T112959Z
URL:https://business.techtitans.org/events/details/business-intelligence-forum-meeting-2015-march-03-26-2015-3069
END:VEVENT

END:VCALENDAR
