BEGIN:VCALENDAR
VERSION:2.0
PRODID:-//ChamberMaster//Event Calendar 2.0//EN
METHOD:PUBLISH
X-PUBLISHED-TTL:P3D
REFRESH-INTERVAL:P3D
CALSCALE:GREGORIAN
BEGIN:VEVENT
DTSTART:20150122T173000Z
DTEND:20150122T190000Z
X-MICROSOFT-CDO-ALLDAYEVENT:FALSE
SUMMARY:Business Intelligence forum meeting- 2015 Jan
DESCRIPTION:
X-ALT-DESC;FMTTYPE=text/html:
LOCATION:MTBC board room 411 Belle Grove Dr. Richardson 75080
UID:e.9090.3067
SEQUENCE:3
DTSTAMP:20260423T145027Z
URL:https://business.techtitans.org/events/details/business-intelligence-forum-meeting-2015-jan-01-22-2015-3067
END:VEVENT

END:VCALENDAR
