BEGIN:VCALENDAR
VERSION:2.0
PRODID:-//ChamberMaster//Event Calendar 2.0//EN
METHOD:PUBLISH
X-PUBLISHED-TTL:P3D
REFRESH-INTERVAL:P3D
CALSCALE:GREGORIAN
BEGIN:VEVENT
DTSTART:20150528T163000Z
DTEND:20150528T180000Z
X-MICROSOFT-CDO-ALLDAYEVENT:FALSE
SUMMARY:Business Intelligence Forum - May 28
DESCRIPTION:
X-ALT-DESC;FMTTYPE=text/html:
LOCATION:MTBC board room 411 Belle Grove Dr. Richardson 75080
UID:e.9090.3071
SEQUENCE:3
DTSTAMP:20260423T083131Z
URL:https://business.techtitans.org/events/details/business-intelligence-forum-may-28-05-28-2015-3071
END:VEVENT

END:VCALENDAR
