BEGIN:VCALENDAR
VERSION:2.0
PRODID:-//ChamberMaster//Event Calendar 2.0//EN
METHOD:PUBLISH
X-PUBLISHED-TTL:P3D
REFRESH-INTERVAL:P3D
CALSCALE:GREGORIAN
BEGIN:VEVENT
DTSTART:20150604T163000Z
DTEND:20150604T180000Z
X-MICROSOFT-CDO-ALLDAYEVENT:FALSE
SUMMARY:Business Intelligence forum - June 4
DESCRIPTION:Business Intelligence Squared: Build vs. Buy for Data Visualization\, where do you start\, data or tool??\n\n\n\nPanelists:\n\nBob Bloem\, business analytics practice area lead\, Slalom Consulting\n\nAsif Masood\, Consultant\, Anji Technologies\n\nJeff Dillenburg\, AIM\, National Solution Director\n\nDan Hooper\, Principal\, ISI\n\nModerator: Robert Bell\, Delivery Consultant\, Hitachi Consulting\n\n \nIn the world of BI visualization\, many tools can connect directly to source systems. So is it now best to buy a tool first\, connect to data and go. Or is designing and building the proper data structure the real place to start? Which avenue will ensure the most success? Come hear our panel debate this topic\, Live.
X-ALT-DESC;FMTTYPE=text/html:<span style="font-size:16px\;"><span style="color: rgb(0\, 0\, 0)\;"><strong>Business Intelligence Squared: Build vs. Buy for Data Visualization\, where do you start\, data or tool??</strong></span></span><br />\n<br />\n<span style="font-family:arial\;"><span style="font-size: 14px\;"><span style="color: black\;">Panelists:</span><br />\n<span style="color: black\;">Bob Bloem\, business analytics practice area lead\, Slalom Consulting</span><br />\n<span style="color: black\;">Asif Masood\, Consultant\, Anji Technologies</span><br />\n<span style="color: rgb(0\, 0\, 0)\;">Jeff Dillenburg\, AIM\, National Solution Director</span><br />\n<span style="color:#000000\;">Dan Hooper\, Principal\, ISI</span><br />\n<span style="color: black\;">Moderator: Robert Bell\, Delivery Consultant\, Hitachi Consulting</span></span></span><br />\n&nbsp\;\n<div><span style="font-size:14px\;"><span style="color: rgb(31\, 73\, 125)\;"><span style="border-width: 1pt\; border-style: none\; border-color: windowtext\; padding: 0in\;"><span style="color: black\;"><span style="font-family: arial\,sans-serif\;">In the world of BI visualization\, many tools can connect directly to source systems. So is it now best to buy a tool first\, connect to data and go. Or is designing and building the proper data structure the real place to start? Which avenue will ensure the most success? Come hear our panel debate this topic\, Live.</span></span></span></span></span></div>\n<br />\n&nbsp\;
LOCATION:Prestonwood Country Club 15909 Preston Road Dallas\, TX 75248
UID:e.9090.3125
SEQUENCE:3
DTSTAMP:20260423T071133Z
URL:https://business.techtitans.org/events/details/business-intelligence-forum-june-4-06-04-2015-3125
END:VEVENT

END:VCALENDAR
