BEGIN:VCALENDAR
VERSION:2.0
PRODID:-//ChamberMaster//Event Calendar 2.0//EN
METHOD:PUBLISH
X-PUBLISHED-TTL:P3D
REFRESH-INTERVAL:P3D
CALSCALE:GREGORIAN
BEGIN:VEVENT
DTSTART:20151020T163000Z
DTEND:20151020T180000Z
X-MICROSOFT-CDO-ALLDAYEVENT:FALSE
SUMMARY:Brown Bag Lunch - 2015 Oct 20
DESCRIPTION:Lunch provided by Resource One Credit Union\n\n\n\n"Making your business lendable"\n\nFeaturing Eric Hargroves\, director of commercial lending\, Resource One Credit Union\n\n"You have probably heard the phrase "financial institutions have capital to loan businesses" for some time now\, but have also heard how difficult it has become for a business to actually qualify for that much needed capital. Actually financial institutions do have capital\, but there is some level of disconnect as to requirements and standards for approval. This presentation will look at a loan request from the Commercial Underwriter's perspective and provide additional insights on what questions to ask your lender\, tips for getting your loan approved\, potential roadblocks\, and much more. Please join us for a unique look at making your business lendable."\n\n\n\n\n\nEric Hargroves is the Manager of Resource One Credit Union's Business Lending Department.  After graduating with honors from Nova Southeastern University with his JD degree\, he joined Wells Fargo as a Commercial Lender and Relationship Manager.  He gained additional expertise during his 5 years at Seacoast National Bank\, becoming a specialist in small business lending. Now with Resource One\, he brings his expertise and experience to its business members and the Dallas small business community.  In this role he assists small businesses with their lending needs employing a flexible\, consultative\, and creative approach to lending.
X-ALT-DESC;FMTTYPE=text/html:<p><span style="color:#FF0000\;"><span style="font-size: 16px\;"><strong>Lunch provided by Resource One Credit Union</strong></span></span><br />\n<br />\n<font face="Arial"><span style="color:#000000\;"><strong>&quot\;Making your business lendable&quot\;</strong><br />\nFeaturing&nbsp\;<strong>Eric Hargroves</strong>\, director of commercial lending\, </span><strong><span style="color:#000000\;">Resource One Credit Union</span></strong></font></p>\n\n<div><span style="font-size:12px\;"><span style="font-family: arial\;">&quot\;You have probably heard the phrase &quot\;financial institutions have capital to loan businesses&quot\; for some time now\, but have also heard how difficult it has become for a business to actually qualify for that much needed capital. Actually financial institutions do have capital\, but there is some level of disconnect as to requirements and standards for approval. This presentation will look at a loan request from the Commercial Underwriter&rsquo\;s perspective and provide additional insights on what questions to ask your lender\, tips for getting your loan approved\, potential roadblocks\, and much more. Please join us for a unique look at making your business lendable.&rdquo\;<br />\n<br />\n<br />\nEric Hargroves is the Manager of Resource One Credit Union&rsquo\;s Business Lending Department.&nbsp\; After graduating with honors from Nova Southeastern University with his JD degree\, he joined Wells Fargo as a Commercial Lender and Relationship Manager.&nbsp\; He gained additional expertise during his 5 years at Seacoast National Bank\, becoming a specialist in small business lending. Now with Resource One\, he brings his expertise and experience to its business members and the Dallas <a name="_GoBack"></a>small business community.&nbsp\; In this role he assists small businesses with their lending needs employing a flexible\, consultative\, and creative approach to lending.</span></span><br />\n<br />\n&nbsp\;</div>\n\n<p>&nbsp\;</p>\n
LOCATION:Tech Titans offices 411 Belle Grove Dr.\, Richardson 75080
UID:e.9090.3061
SEQUENCE:3
DTSTAMP:20260423T014413Z
URL:https://business.techtitans.org/events/details/brown-bag-lunch-2015-oct-20-10-20-2015-3061
END:VEVENT

END:VCALENDAR
