BEGIN:VCALENDAR
VERSION:2.0
PRODID:-//ChamberMaster//Event Calendar 2.0//EN
METHOD:PUBLISH
X-PUBLISHED-TTL:P3D
REFRESH-INTERVAL:P3D
CALSCALE:GREGORIAN
BEGIN:VEVENT
DTSTART:20180521T130000Z
DTEND:20180521T140000Z
X-MICROSOFT-CDO-ALLDAYEVENT:FALSE
SUMMARY:Blockchain Forum\, May 21
DESCRIPTION:General Meeting to discuss upcoming events\n\n\n\nSave the date\n\n July 11    11:30 am - 1pm    Topic:  Technology Issues of Blockchain   Location: Bottle Rocket  \n\n\n\nUpcoming Events:     \n\nSept 17         8 am - 9 am    Topic:  TBA        Location:  Richardson Board Room\n\n Nov 19          8 am - 9 am    Topic:  TBA        Location:  Richardson Board Room\n\n\n\n\n\nCome take a deep dive with us into the world of Blockchain.
X-ALT-DESC;FMTTYPE=text/html:<p><span style="font-size:16px\;"><strong><span style="margin: 0px\; color: rgb(31\, 73\, 125)\; font-family: ">General Meeting to discuss upcoming events</span></strong></span></p>\n\n<h3 style="font-style: italic\;"><br />\n<span style="color:#A52A2A\;">Save the date</span></h3>\n\n<p>&#8203\;<strong>July 11 &nbsp\;&nbsp\; 11:30 am - 1pm &nbsp\;&nbsp\; Topic:&nbsp\; Technology Issues of Blockchain &nbsp\; Location: Bottle Rocket</strong>&nbsp\;&nbsp\;<br />\n<br />\nUpcoming Events: &nbsp\; &nbsp\;&nbsp\;<br />\nSept 17 &nbsp\; &nbsp\; &nbsp\; &nbsp\; 8 am - 9 am &nbsp\;&nbsp\; Topic:&nbsp\; TBA&nbsp\;&nbsp\;&nbsp\;&nbsp\;&nbsp\;&nbsp\;&nbsp\;&nbsp\;Location:&nbsp\; Richardson Board Room<br />\n&#8203\;Nov 19 &nbsp\; &nbsp\; &nbsp\; &nbsp\;&nbsp\; 8 am - 9 am &nbsp\;&nbsp\; Topic:&nbsp\; TBA &nbsp\; &nbsp\; &nbsp\;&nbsp\; Location:&nbsp\; Richardson Board Room<br />\n<br />\n<br />\nCome take a deep dive with us into the world of Blockchain.</p>\n\n<p><br />\n<br />\n<br />\n<br />\n&nbsp\;</p>\n
LOCATION:Richardson Chamber of Commerce Board Room
UID:e.9090.4415
SEQUENCE:3
DTSTAMP:20260422T185146Z
URL:https://business.techtitans.org/events/details/blockchain-forum-may-21-4415
END:VEVENT

END:VCALENDAR
