BEGIN:VCALENDAR
VERSION:2.0
PRODID:-//ChamberMaster//Event Calendar 2.0//EN
METHOD:PUBLISH
X-PUBLISHED-TTL:P3D
REFRESH-INTERVAL:P3D
CALSCALE:GREGORIAN
BEGIN:VEVENT
DTSTART:20180820T130000Z
DTEND:20180820T140000Z
X-MICROSOFT-CDO-ALLDAYEVENT:FALSE
SUMMARY:Blockchain Forum Committee\, Aug. 20
DESCRIPTION:Monthly Committee Meeting\n\nCommittee Members only
X-ALT-DESC;FMTTYPE=text/html:Monthly Committee Meeting<br />\nCommittee Members only
LOCATION:Tech Titans Board Room 411 Belle Grove Drive | Richardson 75080
UID:e.9090.4436
SEQUENCE:3
DTSTAMP:20260420T175131Z
URL:https://business.techtitans.org/events/details/blockchain-forum-committee-aug-20-4436
END:VEVENT

END:VCALENDAR
