BEGIN:VCALENDAR
VERSION:2.0
PRODID:-//ChamberMaster//Event Calendar 2.0//EN
METHOD:PUBLISH
X-PUBLISHED-TTL:P3D
REFRESH-INTERVAL:P3D
CALSCALE:GREGORIAN
BEGIN:VEVENT
DTSTART:20161026T123000Z
DTEND:20161027T003000Z
X-MICROSOFT-CDO-ALLDAYEVENT:FALSE
SUMMARY:*bionorthTX\, Life Science Summit\, Oct. 26
DESCRIPTION:The bionorthTX Annual iC3 Life Science Summit provides life science companies (biotechnology\, medical device\, pharmaceutical\, diagnostics)\, executives\, academia\, investors\, and industry support organizations an opportunity to meet in one place during the course of the region's largest annual conference.\n\n\n\nHear from dynamic speakers\, network with industry professionals\, meet local and university talent\, hear from investors in life sciences\, and get your company noticed through sponsorships and event marketing.  The 2015 Summit brought together 275 for our first event.  This year we anticipate 350-400 attendees.
X-ALT-DESC;FMTTYPE=text/html:The bionorthTX Annual iC3 Life Science Summit provides life science companies (biotechnology\, medical device\, pharmaceutical\, diagnostics)\, executives\, academia\, investors\, and industry support organizations an opportunity to meet in one place during the course of the region&#39\;s largest annual conference.<br />\n<br />\nHear from dynamic speakers\, network with industry professionals\, meet local and university talent\, hear from investors in life sciences\, and get your company noticed through sponsorships and event marketing. &nbsp\;The 2015 Summit brought together 275 for our first event. &nbsp\;This year we anticipate 350-400 attendees. &nbsp\;
LOCATION:UT Arlington's College Park Center 600 South Center Street Arlington\, TX 76019
UID:e.9090.3252
SEQUENCE:3
DTSTAMP:20260422T075004Z
URL:https://business.techtitans.org/events/details/bionorthtx-life-science-summit-oct-26-10-26-2016-3252
END:VEVENT

END:VCALENDAR
