BEGIN:VCALENDAR
VERSION:2.0
PRODID:-//ChamberMaster//Event Calendar 2.0//EN
METHOD:PUBLISH
X-PUBLISHED-TTL:P3D
REFRESH-INTERVAL:P3D
CALSCALE:GREGORIAN
BEGIN:VEVENT
DTSTART:20160823T223000Z
DTEND:20160824T000000Z
X-MICROSOFT-CDO-ALLDAYEVENT:FALSE
SUMMARY:*bionorthTX event\, FDA Audit\, August 23
DESCRIPTION:PSC Biotech presents "How to Survive a Surprise FDA Audit"\n\n\n\nFDA shows up at your door\, what do you do next?  Attila Ari from PSC Software\, will provide an overview of how to prepare for just such an event.  The goal of any inspection\, whether governmental agency or customer is to provide the information they seek in a timely and orderly manner\, because as much as we love them\, in this instance\, we're happier to see them go away happy with our organization.\n\n	Review the items that need to be in place prior to an audit\n	What to expect during the opening meeting and how to control the audit to your advantage\n	Practices to implement during the audit and those that need to be avoided\n	Using software to manage inspections\n\nInteractive Q&A Session\n\nNetworking before and after the presentation
X-ALT-DESC;FMTTYPE=text/html:PSC Biotech presents &quot\;How to Survive a Surprise FDA Audit&quot\;<br />\n<br />\nFDA shows up at your door\, what do you do next? &nbsp\;Attila Ari from PSC Software\, will provide an overview of how to prepare for just such an event. &nbsp\;The goal of any inspection\, whether governmental agency or customer is to provide the information they seek in a timely and orderly manner\, because as much as we love them\, in this instance\, we&#39\;re happier to see them go away happy with&nbsp\;our organization.\n<ul>\n	<li>Review the items that need to be in place prior to an audit</li>\n	<li>What to expect during the opening meeting and how to control the audit to your advantage</li>\n	<li>Practices to implement during the audit and those that need to be avoided</li>\n	<li>Using software to manage inspections</li>\n</ul>\nInteractive Q&amp\;A Session<br />\nNetworking before and after the presentation
LOCATION:Ceutical Laboratories\, Inc. 2300 Valley View Lane\, Suite 230 Farmers Branch\, TX 75234
UID:e.9090.3250
SEQUENCE:3
DTSTAMP:20260422T111105Z
URL:https://business.techtitans.org/events/details/bionorthtx-event-fda-audit-august-23-08-23-2016-3250
END:VEVENT

END:VCALENDAR
