BEGIN:VCALENDAR
VERSION:2.0
PRODID:-//ChamberMaster//Event Calendar 2.0//EN
METHOD:PUBLISH
X-PUBLISHED-TTL:P3D
REFRESH-INTERVAL:P3D
CALSCALE:GREGORIAN
BEGIN:VEVENT
DTSTART:20160310T130000Z
DTEND:20160311T223000Z
X-MICROSOFT-CDO-ALLDAYEVENT:FALSE
SUMMARY:* Big Data\, Open Data sympoisum- University of Phoenix
DESCRIPTION:The purpose of the two day convening is to explore 'big data/open data' and learn about the innovative ways that corporate America\, government and non-profits are using big data to inspire the solutions to solve daily problems\n\n\n\nClick here to register\n\nClick here for more details.
X-ALT-DESC;FMTTYPE=text/html:The purpose of the two day convening is to explore &lsquo\;big data/open data&rsquo\; and learn about the innovative ways that corporate America\, government and non-profits are using big data to inspire the solutions to solve daily problems<br />\n<br />\n<strong><a href="https://www.cvent.com/events/big-data-open-data-inspiring-corporate-civic-innovation/registration-343b875d52924191bdb496c723fdad11.aspx">Click here</a></strong> to register<br />\n<strong><a href="https://chambermaster.blob.core.windows.net/userfiles/UserFiles/chambers/9090/File/BigData_EventandAgenda.pdf">Click here</a></strong> for more details.
LOCATION:
UID:e.9090.3186
SEQUENCE:3
DTSTAMP:20260422T175451Z
URL:https://business.techtitans.org/events/details/big-data-open-data-sympoisum-university-of-phoenix-03-10-2016-3186
END:VEVENT

END:VCALENDAR
