BEGIN:VCALENDAR
VERSION:2.0
PRODID:-//ChamberMaster//Event Calendar 2.0//EN
METHOD:PUBLISH
X-PUBLISHED-TTL:P3D
REFRESH-INTERVAL:P3D
CALSCALE:GREGORIAN
BEGIN:VEVENT
DTSTART;VALUE=DATE:20170210
DTEND;VALUE=DATE:20170211
TRANSP:TRANSPARENT
X-MICROSOFT-CDO-ALLDAYEVENT:TRUE
SUMMARY:Award nominations open Feb. 10
DESCRIPTION:The Tech Titans Awards Gala recognizes the elite in North Texas technology   individuals currently transforming the high-tech industry and giving companies that competitive edge\, as well as companies leading the way. The Tech Titans Awards Gala showcases the innovators\, adopters and executors impacting the technology industry for the greater good. \n\n\n\nThe validation and good press that comes with a Tech Titans nod is golden. Recipients will be crowned at the Tech Titans Gala in August and will be recognized in a special section of the Dallas Business Journal. Award categories recognize large companies\, small companies\, executives\, individual employees\, investment catalysts\, students\, teachers and even companies which support the high-tech sector. See a full list of categories and their descriptions on the Tech Titans Awards nominations website.
X-ALT-DESC;FMTTYPE=text/html:<span style="color: rgb(50\, 50\, 118)\; font-family: Calibri\, Candara\, Segoe\, &quot\;Segoe UI&quot\;\, Optima\, Arial\, sans-serif\; font-size: 15px\; text-align: center\;">The&nbsp\;Tech Titans Awards Gala recognizes the elite in North Texas technology &ndash\; individuals currently transforming the high-tech industry and giving companies that competitive edge\, as well as companies leading the way. The Tech Titans Awards Gala showcases the innovators\, adopters and executors impacting the technology industry for the greater good.&nbsp\;</span><br style="box-sizing: border-box\; color: rgb(50\, 50\, 118)\; font-family: Calibri\, Candara\, Segoe\, &quot\;Segoe UI&quot\;\, Optima\, Arial\, sans-serif\; font-size: 15px\; text-align: center\;" />\n<br style="box-sizing: border-box\; color: rgb(50\, 50\, 118)\; font-family: Calibri\, Candara\, Segoe\, &quot\;Segoe UI&quot\;\, Optima\, Arial\, sans-serif\; font-size: 15px\; text-align: center\;" />\n<span style="color: rgb(50\, 50\, 118)\; font-family: Calibri\, Candara\, Segoe\, &quot\;Segoe UI&quot\;\, Optima\, Arial\, sans-serif\; font-size: 15px\; text-align: center\;">The validation and good press that comes with a Tech Titans nod is golden. Recipients will be crowned at the Tech Titans Gala in August and will be recognized in a special section of the Dallas Business Journal. Award categories recognize large companies\, small companies\, executives\, individual employees\, investment catalysts\, students\, teachers and even companies which support the high-tech sector.&nbsp\;</span><a href="https://metroplextbc.secure-platform.com/a" style="box-sizing: border-box\; background-image: initial\; background-position: initial\; background-size: initial\; background-repeat: initial\; background-attachment: initial\; background-origin: initial\; background-clip: initial\; color: rgb(47\, 153\, 244)\; font-family: Calibri\, Candara\, Segoe\, &quot\;Segoe UI&quot\;\, Optima\, Arial\, sans-serif\; font-size: 15px\; text-align: center\;">See a full list of categories and their descriptions</a><span style="color: rgb(50\, 50\, 118)\; font-family: Calibri\, Candara\, Segoe\, &quot\;Segoe UI&quot\;\, Optima\, Arial\, sans-serif\; font-size: 15px\; text-align: center\;">&nbsp\;on the Tech Titans Awards nominations website.&nbsp\;</span>
LOCATION:
UID:e.9090.3301
SEQUENCE:3
DTSTAMP:20260422T012501Z
URL:https://business.techtitans.org/events/details/award-nominations-open-feb-10-3301
END:VEVENT

END:VCALENDAR
