BEGIN:VCALENDAR
VERSION:2.0
PRODID:-//ChamberMaster//Event Calendar 2.0//EN
METHOD:PUBLISH
X-PUBLISHED-TTL:P3D
REFRESH-INTERVAL:P3D
CALSCALE:GREGORIAN
BEGIN:VEVENT
DTSTART;VALUE=DATE:20170508
DTEND;VALUE=DATE:20170512
TRANSP:TRANSPARENT
X-MICROSOFT-CDO-ALLDAYEVENT:TRUE
SUMMARY:*AUVSI XPONENTIAL\, unmanned vehicles\, May 8-11
DESCRIPTION:Experience the Next Generation of Unmanned\n\n \n\nThe future of unmanned systems and robotics takes shape at AUVSI XPONENTIAL 2017\, May 8-11 in Dallas. Gain insight on the latest technical research impacting advanced vehicle guidance\, sensing\, testing\, modeling\, analysis and more. Attend over 200 cutting-edge courses\, keynotes from industry pioneers and a robust show floor featuring next-generation technology. Learn more at www.xponential.org and register today!\n\n\n\nTech Titan members can use promo code TETI17* for 20% off a Full Conference Pass! \n\n \n\n* Offer valid on the purchase of AUVSI Nonmember Full Conference Pass   Advance Rate. Cannot be applied to previous purchases. Limit one code per order and cannot be combined with other discount codes. Offer expires May 6\, 2017. Terms are subject to change.
X-ALT-DESC;FMTTYPE=text/html:<strong><span style="color:black"><span style="font-size:11pt">Experience the Next Generation of Unmanned</span></span></strong><br />\n&nbsp\;<br />\n<span style="color:black"><span style="font-size:11pt">The future of unmanned systems and robotics takes shape at AUVSI XPONENTIAL 2017\, May 8-11 in Dallas.&nbsp\;Gain insight on the latest technical research impacting advanced vehicle guidance\, sensing\, testing\, modeling\, analysis and more. Attend over 200 cutting-edge courses\, keynotes from industry pioneers and a robust show floor featuring next-generation technology. Learn more at&nbsp\;<a href="http://www.xponential.org/">www.xponential.org</a>&nbsp\;and register today!<br />\n<br />\n<strong>Tech Titan members can use promo code TETI17* for 20% off a Full Conference Pass! </strong></span></span><br />\n&nbsp\;<br />\n<em><span style="font-family:arial"><span style="font-size:10pt">* Offer valid on the purchase of AUVSI Nonmember Full Conference Pass &ndash\; Advance Rate. Cannot be applied to previous purchases. Limit one code per order and cannot be combined with other discount codes. Offer expires May 6\, 2017. Terms are subject to change.</span></span></em>
LOCATION:Kay Bailey Hutchison Convention Center Dallas\, TX
UID:e.9090.3325
SEQUENCE:3
DTSTAMP:20260421T200501Z
URL:https://business.techtitans.org/events/details/auvsi-xponential-unmanned-vehicles-may-8-11-3325
END:VEVENT

END:VCALENDAR
